BEGIN:VCALENDAR
VERSION:2.0
PRODID:-//ChamberMaster//Event Calendar 2.0//EN
METHOD:PUBLISH
X-PUBLISHED-TTL:P3D
REFRESH-INTERVAL:P3D
CALSCALE:GREGORIAN
BEGIN:VEVENT
DTSTART:20211106T140000Z
DTEND:20211106T210000Z
X-MICROSOFT-CDO-ALLDAYEVENT:FALSE
SUMMARY:2021 Lycée Français de Chicago Open House - The French International School
DESCRIPTION:Join us at our Open House on Saturday\, November 6\, 2021 from 9:00 am to 4:00 pm CDT. For everyone's safety and convenience\, we have decided to offer two formats: a virtual session and in-person tours of our school in small groups. Please register to attend either the virtual session or an in-person tour: ? 9:00 am - 10:30 am CDT: Virtual Session with a combination of video chat\, text chat and digital resources. ? 11:00 am - 4:00 pm CDT: In-person Tours at the LFC with an opportunity to discover our beautiful campus and a chance to meet our teachers. Masks and social distancing will be required from all at all times. Guests will also be required to present a proof of vaccination or a negative result to a viral test. Discover what makes the Lyc e Fran ais de Chicago unique: ? Multicultural & inclusive community ? Pre-K to Grade 12 educational journey ? Dual-language curriculum ? High school IB track taught in English ? Third & fourth languages: German\, Mandarin\, Spanish ? Admission in top US and world universities ? Study abroad & class trips ? Athletics (Go Flames!) ? After-school classes & summer camps ? Parent Association & community involvement ? Financial aid opportunities
X-ALT-DESC;FMTTYPE=text/html:Join us at our Open House on Saturday\, November 6\, 2021 from 9:00 am to 4:00 pm CDT. For everyone&rsquo\;s safety and convenience\, we have decided to offer two formats: a virtual session and in-person tours of our school in small groups. Please register to attend either the virtual session or an in-person tour: ? 9:00 am - 10:30 am CDT: Virtual Session with a combination of video chat\, text chat and digital resources. ? 11:00 am - 4:00 pm CDT: In-person Tours at the LFC with an opportunity to discover our beautiful campus and a chance to meet our teachers. Masks and social distancing will be required from all at all times. Guests will also be required to present a proof of vaccination or a negative result to a viral test. Discover what makes the Lyc&eacute\;e Fran&ccedil\;ais de Chicago unique: ? Multicultural &amp\; inclusive community ? Pre-K to Grade 12 educational journey ? Dual-language curriculum ? High school IB track taught in English ? Third &amp\; fourth languages: German\, Mandarin\, Spanish ? Admission in top US and world universities ? Study abroad &amp\; class trips ? Athletics (Go Flames!) ? After-school classes &amp\; summer camps ? Parent Association &amp\; community involvement ? Financial aid opportunities
LOCATION:Lyc e Fran ais de Chicago 1929 W. Wilson Ave. Chicago\, IL 60640
UID:e.1775.16361
SEQUENCE:3
DTSTAMP:20260420T200822Z
URL:https://business.northcenterchamber.com/events/details/2021-lyc&#233;e-fran&#231;ais-de-chicago-open-house-the-french-international-school-16361
END:VEVENT

END:VCALENDAR
