BEGIN:VCALENDAR
VERSION:2.0
PRODID:-//ChamberMaster//Event Calendar 2.0//EN
METHOD:PUBLISH
X-PUBLISHED-TTL:P3D
REFRESH-INTERVAL:P3D
CALSCALE:GREGORIAN
BEGIN:VEVENT
DTSTART:20220326T140000Z
DTEND:20220326T160000Z
X-MICROSOFT-CDO-ALLDAYEVENT:FALSE
SUMMARY:2022 High School IB Open House - The French International School
DESCRIPTION:Come to our in-person IB Open House on Saturday\, March 26 from 9:00 to 11:00 am CDT. You will have an opportunity to tour our beautiful school and meet with teachers\, administrators\, parents and students. Pre-register please. In compliance with our current protocols\, a proof of vaccination or a negative antigen test (less than 24 hours) is required to attend the event. Discover what makes our IB Program unique and truly international! - lB track taught in English   no previous French experience required - Multicultural and inclusive community - Admission to top US and world universities - Third language options: German\, Mandarin\, Spanish - Study abroad and class trips - Athletics (Go Flames!) - After-school classes and summer camps - Financial aid opportunities - College counseling
X-ALT-DESC;FMTTYPE=text/html:Come to our in-person IB Open House on Saturday\, March 26 from 9:00 to 11:00 am CDT. You will have an opportunity to tour our beautiful school and meet with teachers\, administrators\, parents and students. Pre-register please. In compliance with our current protocols\, a proof of vaccination or a negative antigen test (less than 24 hours) is required to attend the event. Discover what makes our IB Program unique and truly international! - lB track taught in English &ndash\; no previous French experience required - Multicultural and inclusive community - Admission to top US and world universities - Third language options: German\, Mandarin\, Spanish - Study abroad and class trips - Athletics (Go Flames!) - After-school classes and summer camps - Financial aid opportunities - College counseling
LOCATION:Lyc e Fran ais de Chicago 1929 W. Wilson Ave. Chicago\, IL 6064
UID:e.1775.16831
SEQUENCE:3
DTSTAMP:20260420T173115Z
URL:https://business.northcenterchamber.com/events/details/2022-high-school-ib-open-house-the-french-international-school-16831
END:VEVENT

END:VCALENDAR
