BEGIN:VCALENDAR
VERSION:2.0
PRODID:-//ChamberMaster//Event Calendar 2.0//EN
METHOD:PUBLISH
X-PUBLISHED-TTL:P3D
REFRESH-INTERVAL:P3D
CALSCALE:GREGORIAN
BEGIN:VEVENT
DTSTART:20220421T223000Z
DTEND:20220422T000000Z
X-MICROSOFT-CDO-ALLDAYEVENT:FALSE
SUMMARY:2022 Pre-K Open House - The French International School
DESCRIPTION:Join us at an upcoming Pre-K Open House: - Thursday\, April 21 from 5:30-7:00 pm - Saturday\, April 30 from 10:00-11:30 am - Saturday\, April 30 from 11:30 am-1:00 pm You will have an opportunity to tour our beautiful school and meet with teachers. Pre-register please. Accepting applications! In compliance with our current protocols\, a proof of vaccination or a negative antigen test (less than 24 hours) is required to attend the event. Discover what makes our preschool unique: - Multicultural & inclusive community - Play based instruction - Bilingual curriculum - Small size classes - Social emotional learning - After-school classes & summer camps - Parent Association & community involvement - Financial aid opportunities
X-ALT-DESC;FMTTYPE=text/html:Join us at an upcoming Pre-K Open House: - Thursday\, April 21 from 5:30-7:00 pm - Saturday\, April 30 from 10:00-11:30 am - Saturday\, April 30 from 11:30 am-1:00 pm You will have an opportunity to tour our beautiful school and meet with teachers. Pre-register please. Accepting applications! In compliance with our current protocols\, a proof of vaccination or a negative antigen test (less than 24 hours) is required to attend the event. Discover what makes our preschool unique: - Multicultural &amp\; inclusive community - Play based instruction - Bilingual curriculum - Small size classes - Social emotional learning - After-school classes &amp\; summer camps - Parent Association &amp\; community involvement - Financial aid opportunities
LOCATION:Lyc e Fran ais de Chicago 1929 W. Wilson Ave. Chicago\, IL 60640
UID:e.1775.16979
SEQUENCE:3
DTSTAMP:20260420T121540Z
URL:https://business.northcenterchamber.com/events/details/2022-pre-k-open-house-the-french-international-school-16979
END:VEVENT

END:VCALENDAR
