BEGIN:VCALENDAR
VERSION:2.0
PRODID:-//ChamberMaster//Event Calendar 2.0//EN
METHOD:PUBLISH
X-PUBLISHED-TTL:P3D
REFRESH-INTERVAL:P3D
CALSCALE:GREGORIAN
BEGIN:VEVENT
DTSTART:20260429T141500Z
DTEND:20260429T153000Z
X-MICROSOFT-CDO-ALLDAYEVENT:FALSE
SUMMARY:Admissions Coffee at NPES
DESCRIPTION:North Park Elementary School is one of the most accessible tuition-based independent schools in Chicago\, serving students from preschool through 8th grade in the Ravenswood/North Center neighborhood.\n\n\n\nTo register for the Admissions Coffee\, please fill out this Inquiry Form.
X-ALT-DESC;FMTTYPE=text/html:<div style="text-align: center\;"><a data-saferedirecturl="https://www.google.com/url?q=https://northcenterchamber.us4.list-manage.com/track/click?u%3D7e5547f2a8a32cf210ec8e902%26id%3D967fbbd014%26e%3Dfcd68696a7&amp\;source=gmail&amp\;ust=1777068356442000&amp\;usg=AOvVaw168s9cTzBZtcIgEfOCYgpg" href="https://northcenterchamber.us4.list-manage.com/track/click?u=7e5547f2a8a32cf210ec8e902&amp\;id=967fbbd014&amp\;e=fcd68696a7" style="color: rgb(0\, 124\, 137)\; font-family: Helvetica\; font-size: 16px\; text-align: center\; background-color: rgb(255\, 255\, 255)\;" target="_blank">North Park Elementary School</a><span style="color: rgb(32\, 32\, 32)\; font-family: Helvetica\; font-size: 16px\; text-align: center\; background-color: rgb(255\, 255\, 255)\;">&nbsp\;is one of the most accessible tuition-based independent schools in Chicago\, serving students from preschool through 8th grade in the Ravenswood/North Center neighborhood.<br />\n<br />\nTo register for the Admissions Coffee\, please fill out this&nbsp\;</span><a data-saferedirecturl="https://www.google.com/url?q=https://northcenterchamber.us4.list-manage.com/track/click?u%3D7e5547f2a8a32cf210ec8e902%26id%3D41c1a5f070%26e%3Dfcd68696a7&amp\;source=gmail&amp\;ust=1777068356442000&amp\;usg=AOvVaw1bCxLITjK1nLFibMXAX2p4" href="https://northcenterchamber.us4.list-manage.com/track/click?u=7e5547f2a8a32cf210ec8e902&amp\;id=41c1a5f070&amp\;e=fcd68696a7" style="color: rgb(0\, 124\, 137)\; font-family: Helvetica\; font-size: 16px\; text-align: center\;" target="_blank">Inquiry Form</a><span style="color: rgb(32\, 32\, 32)\; font-family: Helvetica\; font-size: 16px\; text-align: center\; background-color: rgb(255\, 255\, 255)\;">.</span></div>\n
LOCATION:2017 W Montrose Ave
UID:e.1775.21863
SEQUENCE:3
DTSTAMP:20260424T210906Z
URL:https://business.northcenterchamber.com/events/details/admissions-coffee-at-npes-21863
END:VEVENT

END:VCALENDAR
