BEGIN:VCALENDAR
VERSION:2.0
PRODID:-//ChamberMaster//Event Calendar 2.0//EN
METHOD:PUBLISH
X-PUBLISHED-TTL:P3D
REFRESH-INTERVAL:P3D
CALSCALE:GREGORIAN
BEGIN:VEVENT
DTSTART:20201220T140000Z
DTEND:20201220T153000Z
X-MICROSOFT-CDO-ALLDAYEVENT:FALSE
SUMMARY:All Levels Yoga With Bloom Yoga
DESCRIPTION:All Levels Yoga Class - 1 Hour in Length-\n\n \n\nFlow through your practice as you deepen your connection to self through poses\, breath\, rest\, and mindfulness. All Levels classes weave in foundational poses while accommodating a broader range of experience levels. Explore creative sequences of sun salutation variations\, strengthening standing postures\, balance poses\, accessible backbends\, twists\, and mild inversions. Modifications will be offered throughout the practice.\n\n \n\nStudents must provide mat and props. Pre-registration is required.\n\n \n\nCancellation Reason: Weather Permitting
X-ALT-DESC;FMTTYPE=text/html:<div style="box-sizing: inherit\; color: rgb(77\, 80\, 85)\; font-family: &quot\;Proxima Nova&quot\;\, sans-serif\; font-size: 16px\;">All Levels Yoga Class - 1 Hour in Length-</div>\n\n<div style="box-sizing: inherit\; color: rgb(77\, 80\, 85)\; font-family: &quot\;Proxima Nova&quot\;\, sans-serif\; font-size: 16px\;">&nbsp\;</div>\n\n<div style="box-sizing: inherit\; color: rgb(77\, 80\, 85)\; font-family: &quot\;Proxima Nova&quot\;\, sans-serif\; font-size: 16px\;">Flow through your practice as you deepen your connection to self through poses\, breath\, rest\, and mindfulness. All Levels classes weave in foundational poses while accommodating a broader range of experience levels. Explore creative sequences of sun salutation variations\, strengthening standing postures\, balance poses\, accessible backbends\, twists\, and mild inversions. Modifications will be offered throughout the practice.</div>\n\n<div style="box-sizing: inherit\; color: rgb(77\, 80\, 85)\; font-family: &quot\;Proxima Nova&quot\;\, sans-serif\; font-size: 16px\;">&nbsp\;</div>\n\n<div style="box-sizing: inherit\; color: rgb(77\, 80\, 85)\; font-family: &quot\;Proxima Nova&quot\;\, sans-serif\; font-size: 16px\;">Students must provide mat and props. Pre-registration is required.</div>\n\n<div style="box-sizing: inherit\; color: rgb(77\, 80\, 85)\; font-family: &quot\;Proxima Nova&quot\;\, sans-serif\; font-size: 16px\;">&nbsp\;</div>\n\n<div style="box-sizing: inherit\; color: rgb(77\, 80\, 85)\; font-family: &quot\;Proxima Nova&quot\;\, sans-serif\; font-size: 16px\;">Cancellation Reason: Weather Permitting</div>\n
LOCATION:Northcenter Town Square 4100 N. Damen
UID:e.1775.14511
SEQUENCE:3
DTSTAMP:20260425T160130Z
URL:https://business.northcenterchamber.com/events/details/all-levels-yoga-with-bloom-yoga-12-20-2020-14511
END:VEVENT

END:VCALENDAR
