BEGIN:VCALENDAR
VERSION:2.0
PRODID:-//ChamberMaster//Event Calendar 2.0//EN
METHOD:PUBLISH
X-PUBLISHED-TTL:P3D
REFRESH-INTERVAL:P3D
CALSCALE:GREGORIAN
BEGIN:VEVENT
DTSTART:20211012T230000Z
DTEND:20211013T010000Z
X-MICROSOFT-CDO-ALLDAYEVENT:FALSE
SUMMARY:Annual Membership Meeting 2021
DESCRIPTION:The Northcenter Chamber of Commerce cordially invites you to celebrate and kick off another great year of Chamber programming at our Annual Membership Meeting on Tuesday\, October 12th\, 2021\, at 6 p.m.\, in Northcenter Town Square (4100 N Damen Ave). This is a great opportunity to connect with fellow members and celebrate our successes and community after another challenging year.\n\n\n\nThe ballot link for the incoming slate of new board members was emailed to all members on 9/30/21 (if you did not receive it\, email Eileen to request the link). You must complete your online ballot by noon on Tuesday\, October 12th for it to be counted\, or fill out the ballot in person at the Annual Meeting. Only one representative per member business may cast a ballot on behalf of that business. \n\n\n\nLight refreshments will be provided. In case of inclement weather\, the event will be held indoors at ROCKS Northcenter located at 4138 N Lincoln Ave. Guests will be notified ahead of time. Please reach out to Eileen Keleghan with any questions\, eileen@northcenterchamber.com. \n\n\n\n6 PM: Networking and cast your ballot\n\n6:30 PM: Voting results announced\n\n7:00-8:00 PM: Networking
X-ALT-DESC;FMTTYPE=text/html:The Northcenter Chamber of Commerce cordially invites you to celebrate and kick off another great year of Chamber programming at our Annual Membership Meeting on Tuesday\, October 12th\, 2021\, at 6 p.m.\, in Northcenter Town Square (4100 N Damen Ave). This is a great opportunity to connect with fellow members and celebrate our successes and community after another challenging year.<br />\n<br />\nThe ballot link for the incoming slate of new board members was emailed to all members on 9/30/21 (if you did not receive it\, email Eileen to request the link). You must complete your online ballot by noon on Tuesday\, October 12th for it to be counted\, or fill out the ballot in person at the Annual Meeting. Only one representative per member business may cast a ballot on behalf of that business.&nbsp\;<br />\n<br />\nLight refreshments will be provided. In case of inclement weather\, the event will be held indoors at ROCKS Northcenter located at 4138 N Lincoln Ave. Guests will be notified ahead of time. Please reach out to Eileen Keleghan with any questions\, eileen@northcenterchamber.com.&nbsp\;<br />\n<br />\n6 PM: Networking and cast your ballot<br />\n6:30 PM: Voting results announced<br />\n7:00-8:00 PM: Networking&nbsp\; &nbsp\;&nbsp\;
LOCATION:Northcenter Town Square 4100 N Damen Ave Inclement weather location: ROCKS Northcenter\, 4138 N Lincoln Ave. Guests will be notified in advance.
UID:e.1775.16355
SEQUENCE:3
DTSTAMP:20260420T232619Z
URL:https://business.northcenterchamber.com/events/details/annual-membership-meeting-2021-16355
END:VEVENT

END:VCALENDAR
