BEGIN:VCALENDAR
VERSION:2.0
PRODID:-//ChamberMaster//Event Calendar 2.0//EN
METHOD:PUBLISH
X-PUBLISHED-TTL:P3D
REFRESH-INTERVAL:P3D
CALSCALE:GREGORIAN
BEGIN:VEVENT
DTSTART;VALUE=DATE:20200709
DTEND;VALUE=DATE:20200801
TRANSP:TRANSPARENT
X-MICROSOFT-CDO-ALLDAYEVENT:TRUE
SUMMARY:Applications OPEN for NorthCENTER STAGE Talent Show
DESCRIPTION:At the Northcenter Chamber\, we're all about showcasing what's fun & amazing about our neighborhood. On the evening of Wednesday\, August 12th\, the thing we're showcasing... is YOU! Be a part of our first ever neighborhood talent show\, and you could win an opportunity to perform at one of the biggest events of the summer\, Ribfest Chicago\, in 2021! Just fill out the registration by Friday\, July 31st.\n\n\n\nSubmit Your Act Here
X-ALT-DESC;FMTTYPE=text/html:<span style="color: rgb(32\, 33\, 36)\; font-family: Roboto\, Arial\, sans-serif\; font-size: 14px\; letter-spacing: 0.2px\; white-space: pre-wrap\;">At the Northcenter Chamber\, we&#39\;re all about showcasing what&#39\;s fun &amp\; amazing about our neighborhood. On the evening of Wednesday\, August 12th\, the thing we&#39\;re showcasing... is YOU! Be a part of our first ever neighborhood talent show\, and you could win an opportunity to perform at one of the biggest events of the summer\, Ribfest Chicago\, in 2021! Just fill out the registration by Friday\, July 31st.<br />\n<br />\n<strong><a href="https://docs.google.com/forms/d/e/1FAIpQLSc4UWfFz906K8mgEiUFuTJBAzuRHcX-TeJ30anCKoE32g9xIQ/viewform">Submit Your Act Here</a></strong></span>
LOCATION:
UID:e.1775.14442
SEQUENCE:3
DTSTAMP:20260426T015604Z
URL:https://business.northcenterchamber.com/events/details/applications-open-for-northcenter-stage-talent-show-14442
END:VEVENT

END:VCALENDAR
