BEGIN:VCALENDAR
VERSION:2.0
PRODID:-//ChamberMaster//Event Calendar 2.0//EN
METHOD:PUBLISH
X-PUBLISHED-TTL:P3D
REFRESH-INTERVAL:P3D
CALSCALE:GREGORIAN
BEGIN:VEVENT
DTSTART:20211206T000000Z
DTEND:20211206T030000Z
X-MICROSOFT-CDO-ALLDAYEVENT:FALSE
SUMMARY:Arcade After Dark at Redline VR: Support City Year
DESCRIPTION:Join City Year Chicago's Associate Board for a thrilling\, one-of-a-kind event at Redline VR Bar! Explore Chicago's premiere virtual reality venue offering 65 single-player and multi-player arcade games\, and experience immersive\, cutting-edge entertainment technology\, while supporting the important work of City Year Chicago in schools and communities across Chicago. Tickets include unlimited virtual reality gameplay\, an open bar\, and appetizers.\n\n \n\nGET YOUR TICKETS TODAY!
X-ALT-DESC;FMTTYPE=text/html:<div dir="auto" style="color: rgb(5\, 5\, 5)\; font-family: &quot\;Segoe UI Historic&quot\;\, &quot\;Segoe UI&quot\;\, Helvetica\, Arial\, sans-serif\; font-size: 15px\; white-space: pre-wrap\;">Join City Year Chicago&#39\;s Associate Board for a thrilling\, one-of-a-kind event at Redline VR Bar! Explore Chicago&#39\;s premiere virtual reality venue offering 65 single-player and multi-player arcade games\, and experience immersive\, cutting-edge entertainment technology\, while supporting the important work of City Year Chicago in schools and communities across Chicago. Tickets include unlimited virtual reality gameplay\, an open bar\, and appetizers.<br />\n&nbsp\;</div>\n\n<div dir="auto" style="color: rgb(5\, 5\, 5)\; font-family: &quot\;Segoe UI Historic&quot\;\, &quot\;Segoe UI&quot\;\, Helvetica\, Arial\, sans-serif\; font-size: 15px\; white-space: pre-wrap\;"><a href="https://secure.qgiv.com/for/cfaad/event/839954/">GET YOUR TICKETS TODAY!</a></div>\n
LOCATION:Redline VR\, 4702 N. Ravenswood Ave\, Chicago\, IL 60640
UID:e.1775.16372
SEQUENCE:3
DTSTAMP:20260420T200507Z
URL:https://business.northcenterchamber.com/events/details/arcade-after-dark-at-redline-vr-support-city-year-16372
END:VEVENT

END:VCALENDAR
