BEGIN:VCALENDAR
VERSION:2.0
PRODID:-//ChamberMaster//Event Calendar 2.0//EN
METHOD:PUBLISH
X-PUBLISHED-TTL:P3D
REFRESH-INTERVAL:P3D
CALSCALE:GREGORIAN
BEGIN:VEVENT
DTSTART:20200511T220000Z
DTEND:20200511T233000Z
X-MICROSOFT-CDO-ALLDAYEVENT:FALSE
SUMMARY:AUGUST FIEDLER: DESIGNER OF LUXURY
DESCRIPTION:In this lecture\, art and architecture historian Rolf Achilles will explore the work of German designer August Fiedler. The man behind the luxurious interior of Chicago's Nickerson House (now the Driehaus Museum)\, Fiedler was also involved in the interior design of the famous Germania Club and other landmarks in Chicago and Illinois. Rolf Achilles is the leading researcher on Fiedler's work\, with many pictures to show from his years of learning. In this interactive Zoom meeting\, you will have an opportunity to ask questions and see other participants. Reserve your spot now!\n\nRolf Achilles is an art and architecture historian with a special interest in Chicago and its community of artists/craftsmen. Rolf was the founding curator of the Smith Museum of Stained Glass Windows at Navy Pier and the curator of the current installation of windows in the Macy's Pedway. He is also an Honorary Freeman of the Worshipful Company of Glaziers and Painters of Glass\, London\, England and was awarded Freedom of the City of London in 2013 as well as the German-American Friendship Award\, 2017. Rolf lectures internationally and is widely published on several platforms.\n\nInformation for registrants:\n\nBefore the lecture\, you will receive an email with a direct link to the Zoom meeting. You can contact rosa@dankhaus.com with any specific questions about using Zoom.
X-ALT-DESC;FMTTYPE=text/html:<p>In this lecture\, art and architecture historian&nbsp\;<strong>Rolf Achilles</strong>&nbsp\;will explore the work of German designer August Fiedler. The man behind the luxurious interior of Chicago&#39\;s Nickerson House (now the Driehaus Museum)\, Fiedler was also involved in the interior design of the famous Germania Club and other landmarks in Chicago and Illinois. Rolf Achilles is the leading researcher on Fiedler&#39\;s work\, with many pictures to show from his years of learning. In this interactive Zoom meeting\, you will have an opportunity to ask questions and see other participants. Reserve your spot now!</p>\n\n<p>Rolf Achilles is an art and architecture historian with a special interest in Chicago&nbsp\;and its community of artists/craftsmen. Rolf was the founding curator of the Smith Museum of&nbsp\;Stained&nbsp\;Glass&nbsp\;Windows at Navy Pier and the&nbsp\;curator of the&nbsp\;current installation of windows in the Macy&rsquo\;s Pedway. He is also an&nbsp\;Honorary Freeman of the Worshipful Company of Glaziers and Painters of Glass\,&nbsp\;London\, England&nbsp\;and was&nbsp\;awarded Freedom of the City of London in 2013&nbsp\;as well as the German-American Friendship Award\, 2017. Rolf lectures internationally&nbsp\;and is&nbsp\;widely published&nbsp\;on several platforms.</p>\n\n<p><u>Information for registrants:</u></p>\n\n<p>Before the lecture\, you will receive an email with a direct link to the Zoom meeting. You can contact&nbsp\;<a href="mailto:rosa@dankhaus.com" style="color: rgb(54\, 175\, 240)\;">rosa@dankhaus.com</a>&nbsp\;with any specific questions about using Zoom.</p>\n
LOCATION:Virtual
UID:e.1775.14311
SEQUENCE:3
DTSTAMP:20260426T034704Z
URL:https://business.northcenterchamber.com/events/details/august-fiedler-designer-of-luxury-14311
END:VEVENT

END:VCALENDAR
