BEGIN:VCALENDAR
VERSION:2.0
PRODID:-//ChamberMaster//Event Calendar 2.0//EN
METHOD:PUBLISH
X-PUBLISHED-TTL:P3D
REFRESH-INTERVAL:P3D
CALSCALE:GREGORIAN
BEGIN:VEVENT
DTSTART:20211201T210000Z
DTEND:20211201T220000Z
X-MICROSOFT-CDO-ALLDAYEVENT:FALSE
SUMMARY:BACP City Inspections Webinar: Ask Questions\, Get Answers
DESCRIPTION:City Inspections - Ask Questions\, Get Answers\n\n \n\nPresented by the City of Chicago\n\n \n\nThe Chicago Department of Business Affairs & Consumer Protection\, Department of Public Health\, and the Department of Buildings will provide insight on how operate a compliant business in the City of Chicago. Topics covered will include how to prepare for inspections\, building permits and sign display requirements\, food inspection overview and necessary certificates\, and zoning review procedures. Learn how to operate safely and avoid common setbacks.\n\n \n\nRegister by visiting www.chicago.gov/businesseducation
X-ALT-DESC;FMTTYPE=text/html:<div style="color: rgb(64\, 63\, 66)\; font-family: Arial\, Verdana\, Helvetica\, sans-serif\; font-size: 12px\;"><span style="font-size: 14px\; color: rgb(0\, 0\, 0)\;">City Inspections - Ask Questions\, Get Answers</span></div>\n\n<div style="color: rgb(64\, 63\, 66)\; font-family: Arial\, Verdana\, Helvetica\, sans-serif\; font-size: 12px\;">&nbsp\;</div>\n\n<div style="color: rgb(64\, 63\, 66)\; font-family: Arial\, Verdana\, Helvetica\, sans-serif\; font-size: 12px\;"><span style="font-size: 14px\; color: rgb(0\, 0\, 0)\;">Presented by the City of Chicago</span></div>\n\n<div style="color: rgb(64\, 63\, 66)\; font-family: Arial\, Verdana\, Helvetica\, sans-serif\; font-size: 12px\;">&nbsp\;</div>\n\n<div style="color: rgb(64\, 63\, 66)\; font-family: Arial\, Verdana\, Helvetica\, sans-serif\; font-size: 12px\;"><span style="font-size: 14px\; color: rgb(0\, 0\, 0)\;">The Chicago Department of Business Affairs &amp\; Consumer Protection\, Department of Public Health\, and the Department of Buildings will provide insight on how operate a compliant business in the City of Chicago. Topics covered will include how to prepare for inspections\, building permits and sign display requirements\, food inspection overview and necessary certificates\, and zoning review procedures. Learn how to operate safely and avoid common setbacks.</span></div>\n\n<div style="color: rgb(64\, 63\, 66)\; font-family: Arial\, Verdana\, Helvetica\, sans-serif\; font-size: 12px\;">&nbsp\;</div>\n\n<div style="color: rgb(64\, 63\, 66)\; font-family: Arial\, Verdana\, Helvetica\, sans-serif\; font-size: 12px\;"><span style="font-size: 14px\; color: rgb(0\, 0\, 0)\;">Register by visiting&nbsp\;</span><a data-saferedirecturl="https://www.google.com/url?q=https://r20.rs6.net/tn.jsp?f%3D001zNl5_FELX7px5OXsHVxOE7hwoqRn6NR-_XxQO14uhshTyuhONuc-cpSf06dn-G1xf7BG3QqkoZb9oVpQVrTzfHovKo3DIWht7xokg4M2upzDLe4f7TikINTgZIh64DqbV6WHwLhyy8z8cnozWtRXJ2YLaXS3MlZDqe2rKsYiF5w%3D%26c%3DXiaW2asI8UhhpWimVUCC5AJyHKvZlD4BcBMqt_oXw3Yfgh23FLrLiw%3D%3D%26ch%3D2ElO9A32rtjqB2B1Y6t1T5aFa9XPnAzUAXpOgIrlqECix0VpZ7iyNw%3D%3D&amp\;source=gmail&amp\;ust=1638379702173000&amp\;usg=AOvVaw2RKOQNCONw_Wk-7PlmPqju" href="https://r20.rs6.net/tn.jsp?f=001zNl5_FELX7px5OXsHVxOE7hwoqRn6NR-_XxQO14uhshTyuhONuc-cpSf06dn-G1xf7BG3QqkoZb9oVpQVrTzfHovKo3DIWht7xokg4M2upzDLe4f7TikINTgZIh64DqbV6WHwLhyy8z8cnozWtRXJ2YLaXS3MlZDqe2rKsYiF5w=&amp\;c=XiaW2asI8UhhpWimVUCC5AJyHKvZlD4BcBMqt_oXw3Yfgh23FLrLiw==&amp\;ch=2ElO9A32rtjqB2B1Y6t1T5aFa9XPnAzUAXpOgIrlqECix0VpZ7iyNw==" rel="noopener noreferrer" style="color: rgb(0\, 0\, 255)\; font-size: 14px\; font-weight: bold\;" target="_blank">www.chicago.gov/<wbr />businesseducation</a></div>\n
LOCATION:Virtual webinar
UID:e.1775.16378
SEQUENCE:3
DTSTAMP:20260420T183736Z
URL:https://business.northcenterchamber.com/events/details/bacp-city-inspections-webinar-ask-questions-get-answers-16378
END:VEVENT

END:VCALENDAR
