BEGIN:VCALENDAR
VERSION:2.0
PRODID:-//ChamberMaster//Event Calendar 2.0//EN
METHOD:PUBLISH
X-PUBLISHED-TTL:P3D
REFRESH-INTERVAL:P3D
CALSCALE:GREGORIAN
BEGIN:VEVENT
DTSTART:20200927T163000Z
DTEND:20200927T180000Z
X-MICROSOFT-CDO-ALLDAYEVENT:FALSE
SUMMARY:BeMoved Dance Class & Fundraiser
DESCRIPTION:
X-ALT-DESC;FMTTYPE=text/html:
LOCATION:
UID:e.1775.15863
SEQUENCE:3
DTSTAMP:20260425T204806Z
URL:https://business.northcenterchamber.com/events/details/bemoved-dance-class-fundraiser-15863
END:VEVENT

END:VCALENDAR
