BEGIN:VCALENDAR
VERSION:2.0
PRODID:-//ChamberMaster//Event Calendar 2.0//EN
METHOD:PUBLISH
X-PUBLISHED-TTL:P3D
REFRESH-INTERVAL:P3D
CALSCALE:GREGORIAN
BEGIN:VEVENT
DTSTART:20210309T160000Z
DTEND:20210309T170000Z
X-MICROSOFT-CDO-ALLDAYEVENT:FALSE
SUMMARY:Best Practices for Lease Negotiation
DESCRIPTION:Join the Northcenter Chamber of Commerce as we discuss tips and best practices when it comes to approaching your landlord about renegotiating your lease terms\, downsizing your space\, and ensuring that your building's health and sanitation practices are up to par. We'll hear from James Erwin of Erwin Law LLC he shares insights to help you\, as the tenant\, improve your lease terms\, whether you're renewing or entering a brand-new lease in the neighborhood!\n\n\n\nRegister Here
X-ALT-DESC;FMTTYPE=text/html:Join the Northcenter Chamber of Commerce as we discuss tips and best practices when it comes to approaching your landlord about renegotiating your lease terms\, downsizing your space\, and ensuring that your building&rsquo\;s health and sanitation practices are up to par. We&rsquo\;ll hear from James Erwin of Erwin Law LLC he shares insights to help you\, as the tenant\, improve your lease terms\, whether you&rsquo\;re renewing or entering a brand-new lease in the neighborhood!<br />\n<br />\n<strong><a href="http://https://us02web.zoom.us/meeting/register/tZIlf-6grTgvE9wnv5c9lsotC4F4YjbnCKVs">Register Here</a></strong>
LOCATION:Zoom - join us here!
UID:e.1775.16065
SEQUENCE:3
DTSTAMP:20260421T115032Z
URL:https://business.northcenterchamber.com/events/details/best-practices-for-lease-negotiation-16065
END:VEVENT

END:VCALENDAR
