BEGIN:VCALENDAR
VERSION:2.0
PRODID:-//ChamberMaster//Event Calendar 2.0//EN
METHOD:PUBLISH
X-PUBLISHED-TTL:P3D
REFRESH-INTERVAL:P3D
CALSCALE:GREGORIAN
BEGIN:VEVENT
DTSTART:20220323T220000Z
DTEND:20220324T020000Z
X-MICROSOFT-CDO-ALLDAYEVENT:FALSE
SUMMARY:Birch Road Cellar: Open House
DESCRIPTION:Join us for a night at Birch Road\, just like a member.\n\n\n  Hi!!!! We're so excited to meet you and welcome you to Birch Road. After you RSVP\, we'll send you an email a few days in advance to confirm and provide all the details you need to make the most of your night. In the meantime\, feel free to check out our FAQs here.\n\n \nThis is a FREE\, 21+ event. RSVP required.\n\nWe invite you to come solo or bring up to 2 friends. We are 100% BYOB so make sure to bring your favorite bottle of beer or wine to enjoy while you explore the club. Don't worry about bringing any glassware\, ice or non-alcoholics. The clubhouse has everything you need to enjoy that perfect drink among friends.\n\nThis is a no strings attached event\, but you should know that we are currently accepting new members and will have a special offer for membership for those interested in joining on the spot!
X-ALT-DESC;FMTTYPE=text/html:<h1 class="title-heading-center fusion-responsive-typography-calculated" data-fontsize="44.79999923706055" data-lineheight="62.720001220703125px" style="box-sizing: border-box\; margin: 0px\; font-family: &quot\;Bebas Neue&quot\;\; line-height: 1.4\; letter-spacing: 2px\; font-size: 2.8rem\; color: rgb(13\, 41\, 68)\; flex-grow: 0\; padding: 0px\; text-align: center\; --fontSize: 44.79999923706055\;"><span style="font-size:20px\;">Join us for a night at Birch Road\, just like a member.</span></h1>\n<br />\n<span style="caret-color: rgb(51\, 49\, 46)\; color: rgb(51\, 49\, 46)\; font-family: &quot\;Brandon Grotesque Reg&quot\;\; font-size: 18px\;">&#128400\; Hi!!!! We&rsquo\;re so excited to meet you and welcome you to Birch Road. After you RSVP\, we&rsquo\;ll send you an email a few days in advance to confirm and provide all the details you need to make the most of your night. In the meantime\, feel free to check out our FAQs <a href="https://www.birchroadcellar.com/openhouse2022/">here</a>.</span><br />\n&nbsp\;\n<p style="font-size: 16px\; box-sizing: border-box\; margin: 0px 0px 20px\; caret-color: rgb(51\, 49\, 46)\; color: rgb(51\, 49\, 46)\; font-family: &quot\;Brandon Grotesque Reg&quot\;\;">This is a FREE\, 21+ event. RSVP required.</p>\n\n<p style="font-size: 16px\; box-sizing: border-box\; margin: 0px 0px 20px\; caret-color: rgb(51\, 49\, 46)\; color: rgb(51\, 49\, 46)\; font-family: &quot\;Brandon Grotesque Reg&quot\;\;">We invite you to come solo or bring up to 2 friends. We are 100% BYOB so make sure to bring your favorite bottle of beer or wine to enjoy while you explore the club. Don&rsquo\;t worry about bringing any glassware\, ice or non-alcoholics. The clubhouse has everything you need to enjoy that perfect drink among friends.</p>\n\n<p style="font-size: 16px\; box-sizing: border-box\; margin: 0px 0px 20px\; caret-color: rgb(51\, 49\, 46)\; color: rgb(51\, 49\, 46)\; font-family: &quot\;Brandon Grotesque Reg&quot\;\;">This is a no strings attached event\, but you should know that we are currently accepting new members and will have a special offer for membership for those interested in joining on the spot!</p>\n
LOCATION:Birch Road Cellar 2002 W Roscoe St
UID:e.1775.16856
SEQUENCE:3
DTSTAMP:20260420T134338Z
URL:https://business.northcenterchamber.com/events/details/birch-road-cellar-open-house-16856
END:VEVENT

END:VCALENDAR
