BEGIN:VCALENDAR
VERSION:2.0
PRODID:-//ChamberMaster//Event Calendar 2.0//EN
METHOD:PUBLISH
X-PUBLISHED-TTL:P3D
REFRESH-INTERVAL:P3D
CALSCALE:GREGORIAN
BEGIN:VEVENT
DTSTART:20210826T233000Z
DTEND:20210827T003000Z
X-MICROSOFT-CDO-ALLDAYEVENT:FALSE
SUMMARY:Bloom Yoga Studio: All Levels Yoga in Northcenter Town Square
DESCRIPTION:Flow through your practice as you deepen your connection to self through poses\, breath\, rest\, and mindfulness. All Levels classes weave in foundational poses while accommodating a broader range of experience levels. Explore creative sequences of sun salutation variations\, strengthening standing postures\, balance poses\, accessible backbends\, twists\, and mild inversions. Modifications will be offered throughout the practice. Students must provide mat and props. Pre-registration is required. Cancellation Reason: Weather Permitting
X-ALT-DESC;FMTTYPE=text/html:Flow through your practice as you deepen your connection to self through poses\, breath\, rest\, and mindfulness. All Levels classes weave in foundational poses while accommodating a broader range of experience levels. Explore creative sequences of sun salutation variations\, strengthening standing postures\, balance poses\, accessible backbends\, twists\, and mild inversions. Modifications will be offered throughout the practice. Students must provide mat and props. Pre-registration is required. Cancellation Reason: Weather Permitting
LOCATION:Northcenter Town Square 4100 N. Damen Ave.
UID:e.1775.16333
SEQUENCE:3
DTSTAMP:20260421T030713Z
URL:https://business.northcenterchamber.com/events/details/bloom-yoga-studio-all-levels-yoga-in-northcenter-town-square-08-26-2021-16333
END:VEVENT

END:VCALENDAR
