BEGIN:VCALENDAR
VERSION:2.0
PRODID:-//ChamberMaster//Event Calendar 2.0//EN
METHOD:PUBLISH
X-PUBLISHED-TTL:P3D
REFRESH-INTERVAL:P3D
CALSCALE:GREGORIAN
BEGIN:VEVENT
DTSTART:20201008T134500Z
DTEND:20201008T150000Z
X-MICROSOFT-CDO-ALLDAYEVENT:FALSE
SUMMARY:Breakfast Club: A Conversation on Fostering Diversity\, Equity and Inclusion
DESCRIPTION:A powerful discussion that will help us all recognize\n\nhow we can overcome biases and affect meaningful change.\n\n\n\n\n\n\n\nAbout this Event\n\n\n\nA Conversation About Fostering Diversity\,\n\nEquity and Inclusion in the Nonprofit Sector\n\nPresented by Melissa Lagowski\, Big Buzz Idea Group\, and Tiffany Williams\, TJ Marie Consulting and Givly\n\nNonprofit organizations generally foster a strong sense of community. As diversity\, equity and inclusion (DEI) remain forefront on everyone's minds these days\, could we be doing more to foster a welcoming environment?\n\nJoin us on Thursday\, October 8th when Big Buzz Idea Group Founder\, Melissa Lagowski\, will have a discussion with Tiffany Williams\, Founder of TJ Marie Consulting and the Givly App\, about DEI in the nonprofit arena.\n\nThis session will offer an open discussion to help us all examine how to break through barriers\, create a culture of inclusion and have meaningful conversations about race that will foster understanding and create a more welcoming environment for board\, staff\, donors\, members and volunteers. Join us for a powerful discussion that will help us all recognize how we can overcome biases and affect meaningful change.\n\nAttendees are invited to submit your questions when you register.\n\n\n\n \n\n\nAbout our Presenters\n\nTiffany Williams is the Founder and Principal of TJ Marie Consulting and founder and CEO of Givly - a fintech donor engagement mobile app designed to harness the philanthropic spirit of donors and make it easier to give.. Tiffany offers ten years of leadership and nonprofit management experience\, having successfully led teams and nonprofit organizations in securing nearly a billion dollars in philanthropic support for their causes and missions. Tiffany possesses extensive skill in developing and facilitating content and training presentations for influential corporate executives and stakeholders\, board members\, and major donors. Additionally\, she is an influential voice in the philanthropic community\, having facilitated workshops and presented on various fundraising topics as a thought-leader for the Association of Nonprofit Professionals (AFP)\, Young Nonprofit Network (YNPN)\, and the Association of Consultants to Nonprofits (ACN). Tiffany is a native of Hattiesburg\, Mississippi and resides in Chicago\, Illinois. She received her BA and MBA from Florida A&M University.\n\n \n\nMelissa Lagowski created Big Buzz Idea Group in November 2004 so Chicagoland nonprofits would have an honest outsourcing partner to bring their largest projects to life. After raising nearly $6 million dollars for clients\, Melissa is dedicated to providing full operational support that will allow charitable organizations to run more effectively. With 26 years of corporate and nonprofit experience\, she has launched and executed large fundraisers\, conceived several innovative and lucrative new programs (including her first virtual conference)\, coordinated a variety of dinners/awards functions and organized numerous conferences/workshops.. Awards and accomplishments include the Woman of Influence by The Chicago Business Journal (January 2016)\; the NAWBO Chicago Presidential Award of Excellence (2014)\; and the Goldman Sachs 10\,000 Small Businesses Graduate (2013).\n\n\n\nAbout the Big Buzz Breakfast Club\n\nThe Big Buzz Breakfast Club is a nonprofit leadership series hosted the second Thursday of each month by Big Buzz Idea Group. It is designed to Power Up your nonprofit organization by providing leaders with information they need to spark the growth of their organization.\n\nBig Buzz Idea Group works with nonprofits and associations that want their offices to run more efficiently so they can focus on their mission and organizational growth. We believe that leadership can more effectively work on their organization knowing that an honest and caring team is managing the day to day operations. For less than the cost of a single employee\, our experienced team executes a variety of back office tasks like bookkeeping\, social media management\, website management\, newsletter production\, member management\, donor relations\, and event planning.\n\n\n\nSubscribe to Big Buzz Idea Group's Monthly Newsletter Insights
X-ALT-DESC;FMTTYPE=text/html:<div class="g-group l-lg-mar-bot-6 l-md-mar-bot-4  " style="margin: 0px 0px 30px\; padding: 0px\; font-size: 0px\; letter-spacing: 0px\; color: rgb(57\, 54\, 79)\; font-family: &quot\;Neue Plak&quot\;\, -apple-system\, BlinkMacSystemFont\, Roboto\, &quot\;Helvetica Neue&quot\;\, Helvetica\, Tahoma\, Arial\, sans-serif\;">\n<div class="g-cell g-cell-10-12 g-cell-md-1-1" style="margin: 0px\; padding: 0px 15px\; width: 560px\; box-sizing: border-box\; display: inline-block\; overflow: hidden\; vertical-align: top\; letter-spacing: 0.5px\; font-size: 0.933333rem\; line-height: 1.25rem\;">\n<div class="has-user-generated-content js-d-read-more read-more js-read-more read-more--medium-down read-more--expanded" data-xd-wired="read-more" dorsal-guid="11b01baa-7f00-4fd7-de72-6af7401227ef" style="margin: 0px\; padding: 0px\;">\n<div class="js-xd-read-more-toggle-view read-more__toggle-view" style="margin: 0px\; padding: 0px\; overflow: hidden\; position: relative\; overflow-wrap: break-word\;">\n<div class="js-xd-read-more-contents text-body-medium" data-automation="listing-event-description" style="margin: 0px\; padding: 0px\; font-size: 0.933333rem\; line-height: 1.25rem\;"><span style="font-size:14px\;"><span style="font-family:arial\;"><span style="color:#000000\;"><span style="font-weight: 700\; padding-top: 0px\;">A powerful discussion that will help us all recognize<br />\nhow we can overcome biases and affect meaningful change.</span></span></span></span></div>\n</div>\n</div>\n</div>\n</div>\n\n<div class="g-group l-mar-bot-6 l-sm-mar-bot-4" style="margin: 0px 0px 30px\; padding: 0px\; font-size: 0px\; letter-spacing: 0px\; color: rgb(57\, 54\, 79)\; font-family: &quot\;Neue Plak&quot\;\, -apple-system\, BlinkMacSystemFont\, Roboto\, &quot\;Helvetica Neue&quot\;\, Helvetica\, Tahoma\, Arial\, sans-serif\;">\n<div class="structured-content g-cell g-cell-10-12 g-cell-md-1-1" style="margin: 0px\; padding: 0px 15px\; width: 560px\; box-sizing: border-box\; display: inline-block\; overflow: hidden\; vertical-align: top\; letter-spacing: 0.5px\; font-size: 0.933333rem\; line-height: 1.25rem\;">\n<h2 class="text-body-large hide-small" style="margin: 0px -0.25px 0px 0px\; padding: 0px\; font-weight: 600\; font-size: 1.2rem\; line-height: 1.5rem\; letter-spacing: 0.25px\;"><span style="font-size:14px\;"><span style="font-family:arial\;"><span style="color:#000000\;">About this Event</span></span></span></h2>\n\n<div class="has-user-generated-content" data-automation="about-this-event-sc" style="margin: 0px\; padding: 0px\;">\n<div class="structured-content-rich-text structured-content__module l-align-left l-mar-vert-6 l-sm-mar-vert-4 text-body-medium" style="margin: 30px 0px\; padding: 0px\; font-size: 0.933333rem\; line-height: 1.25rem\; text-rendering: optimizelegibility\;">\n<h2 style="margin: 0px\; padding: 0px\; color: rgb(30\, 10\, 60)\; font-size: 24px\; line-height: 2rem\; font-weight: 700\;"><span style="font-size:14px\;"><span style="font-family:arial\;"><span style="color:#000000\;">A Conversation About Fostering Diversity\,<br />\nEquity and Inclusion in the Nonprofit Sector</span></span></span></h2>\n\n<h3 style="margin: 0px\; padding: 10px 0px 0px\; color: rgb(30\, 10\, 60)\; font-size: 20px\; line-height: 1.75rem\;"><span style="font-size:14px\;"><span style="font-family:arial\;"><span style="color:#000000\;">Presented by Melissa Lagowski\,&nbsp\;</span><a href="https://bigbuzzideagroup.com/" rel="nofollow noopener noreferrer" style="color: var(--eds-control\,#3659e3)\; text-decoration-line: none\; cursor: pointer\; background-color: transparent\; padding-top: 0px\;" target="_blank"><span style="color:#000000\;">Big Buzz Idea Group</span></a><span style="color:#000000\;">\, and Tiffany Williams\,&nbsp\;</span><a href="https://www.tjmarieconsulting.com/" rel="nofollow noopener noreferrer" style="color: var(--eds-control\,#3659e3)\; text-decoration-line: none\; cursor: pointer\; background-color: transparent\;" target="_blank"><span style="color:#000000\;">TJ Marie Consulting</span></a><span style="color:#000000\;">&nbsp\;and&nbsp\;</span><a href="https://www.givlyapp.com/" rel="nofollow noopener noreferrer" style="color: var(--eds-control\,#3659e3)\; text-decoration-line: none\; cursor: pointer\; background-color: transparent\;" target="_blank"><span style="color:#000000\;">Givly</span></a></span></span></h3>\n\n<p style="margin: 0px\; padding: 10px 0px 0px\; color: rgb(111\, 114\, 135)\; font-size: 16px\; line-height: 1.5rem\;"><span style="font-size:14px\;"><span style="font-family:arial\;"><span style="color:#000000\;">Nonprofit organizations generally foster a strong sense of community. As diversity\, equity and inclusion (DEI) remain forefront on everyone&rsquo\;s minds these days\, could we be doing more to foster a welcoming environment?</span></span></span></p>\n\n<p style="margin: 0px\; padding: 10px 0px 0px\; color: rgb(111\, 114\, 135)\; font-size: 16px\; line-height: 1.5rem\;"><span style="font-size:14px\;"><span style="font-family:arial\;"><span style="color:#000000\;">Join us on Thursday\, October 8th when Big Buzz Idea Group Founder\, Melissa Lagowski\, will have a discussion with Tiffany Williams\, Founder of TJ Marie Consulting and the Givly App\, about DEI in the nonprofit arena.</span></span></span></p>\n\n<p style="margin: 0px\; padding: 10px 0px 0px\; color: rgb(111\, 114\, 135)\; font-size: 16px\; line-height: 1.5rem\;"><span style="font-size:14px\;"><span style="font-family:arial\;"><span style="color:#000000\;">This session will offer an open discussion to help us all examine how to break through barriers\, create a culture of inclusion and have meaningful conversations about race that will foster understanding and create a more welcoming environment for board\, staff\, donors\, members and volunteers. Join us for a powerful discussion that will help us all recognize how we can overcome biases and affect meaningful change.</span></span></span></p>\n\n<p style="margin: 0px\; padding: 10px 0px 0px\; color: rgb(111\, 114\, 135)\; font-size: 16px\; line-height: 1.5rem\;"><span style="font-size:14px\;"><span style="font-family:arial\;"><span style="color:#000000\;">Attendees are invited to submit your questions when you register.</span></span></span><br />\n<br />\n&nbsp\;</p>\n\n<div class="structured-content-rich-text structured-content__module l-align-left l-mar-vert-6 l-sm-mar-vert-4 text-body-medium" style="margin: 30px 0px\; padding: 0px\; font-size: 14.9333px\; line-height: 1.25rem\; text-rendering: optimizelegibility\; color: rgb(57\, 54\, 79)\; font-family: &quot\;Neue Plak&quot\;\, -apple-system\, BlinkMacSystemFont\, Roboto\, &quot\;Helvetica Neue&quot\;\, Helvetica\, Tahoma\, Arial\, sans-serif\; letter-spacing: 0.5px\;">\n<h2 style="margin: 0px\; padding: 0px\; color: rgb(30\, 10\, 60)\; font-size: 24px\; line-height: 2rem\; font-weight: 700\;"><span style="font-size:14px\;"><span style="font-family:arial\;"><span style="color:#000000\;">About our Presenters</span></span></span></h2>\n\n<p style="margin: 0px\; padding: 10px 0px 0px\; color: rgb(111\, 114\, 135)\; font-size: 16px\; line-height: 1.5rem\;"><span style="font-size:14px\;"><span style="font-family:arial\;"><span style="color:#000000\;"><span style="font-weight: 700\; padding-top: 0px\;">Tiffany Williams&nbsp\;</span>is the Founder and Principal of&nbsp\;</span><a href="https://www.tjmarieconsulting.com/" rel="nofollow noopener noreferrer" style="color: var(--eds-control\,#3659e3)\; text-decoration-line: none\; cursor: pointer\; background-color: transparent\;" target="_blank"><span style="color:#000000\;">TJ Marie Consulting&nbsp\;</span></a><span style="color:#000000\;">and founder and CEO of&nbsp\;</span><a href="https://www.givlyapp.com/" rel="nofollow noopener noreferrer" style="color: var(--eds-control\,#3659e3)\; text-decoration-line: none\; cursor: pointer\; background-color: transparent\;" target="_blank"><span style="color:#000000\;">Givly</span></a><span style="color:#000000\;">&nbsp\;- a fintech donor engagement mobile app designed to harness the philanthropic spirit of donors and make it easier to give.. Tiffany offers ten years of leadership and nonprofit management experience\, having successfully led teams and nonprofit organizations in securing nearly a billion dollars in philanthropic support for their causes and missions. Tiffany possesses extensive skill in developing and facilitating content and training presentations for influential corporate executives and stakeholders\, board members\, and major donors. Additionally\, she is an influential voice in the philanthropic community\, having facilitated workshops and presented on various fundraising topics as a thought-leader for the Association of Nonprofit Professionals (AFP)\, Young Nonprofit Network (YNPN)\, and the Association of Consultants to Nonprofits (ACN). Tiffany is a native of Hattiesburg\, Mississippi and resides in Chicago\, Illinois. She received her BA and MBA from Florida A&amp\;M University.</span></span></span></p>\n\n<p style="margin: 0px\; padding: 10px 0px 0px\; color: rgb(111\, 114\, 135)\; font-size: 16px\; line-height: 1.5rem\;">&nbsp\;</p>\n\n<p style="margin: 0px\; padding: 10px 0px 0px\; color: rgb(111\, 114\, 135)\; font-size: 16px\; line-height: 1.5rem\;"><span style="font-size:14px\;"><span style="font-family:arial\;"><span style="color:#000000\;"><span style="font-weight: 700\; padding-top: 0px\;">Melissa Lagowski</span>&nbsp\;created&nbsp\;</span><a href="https://bigbuzzideagroup.com/" rel="nofollow noopener noreferrer" style="color: var(--eds-control\,#3659e3)\; text-decoration-line: none\; cursor: pointer\; background-color: transparent\;" target="_blank"><span style="color:#000000\;">Big Buzz Idea Group</span></a><span style="color:#000000\;">&nbsp\;in November 2004 so Chicagoland nonprofits would have an honest outsourcing partner to bring their largest projects to life. After raising nearly $6 million dollars for clients\, Melissa is dedicated to providing full operational support that will allow charitable organizations to run more effectively. With 26 years of corporate and nonprofit experience\, she has launched and executed large fundraisers\, conceived several innovative and lucrative new programs (including her first virtual conference)\, coordinated a variety of dinners/awards functions and organized numerous conferences/workshops.. Awards and accomplishments include the Woman of Influence by The Chicago Business Journal (January 2016)\; the NAWBO Chicago Presidential Award of Excellence (2014)\; and the Goldman Sachs 10\,000 Small Businesses Graduate (2013).</span></span></span></p>\n</div>\n\n<div class="structured-content-rich-text structured-content__module l-align-left l-mar-vert-6 l-sm-mar-vert-4 text-body-medium" style="margin: 30px 0px\; padding: 0px\; font-size: 14.9333px\; line-height: 1.25rem\; text-rendering: optimizelegibility\; color: rgb(57\, 54\, 79)\; font-family: &quot\;Neue Plak&quot\;\, -apple-system\, BlinkMacSystemFont\, Roboto\, &quot\;Helvetica Neue&quot\;\, Helvetica\, Tahoma\, Arial\, sans-serif\; letter-spacing: 0.5px\;">\n<h2 style="margin: 0px\; padding: 0px\; color: rgb(30\, 10\, 60)\; font-size: 24px\; line-height: 2rem\; font-weight: 700\;"><span style="font-size:14px\;"><span style="font-family:arial\;"><span style="color:#000000\;">About the Big Buzz Breakfast Club</span></span></span></h2>\n\n<p style="margin: 0px\; padding: 10px 0px 0px\; color: rgb(111\, 114\, 135)\; font-size: 16px\; line-height: 1.5rem\;"><span style="font-size:14px\;"><span style="font-family:arial\;"><span style="color:#000000\;">The Big Buzz Breakfast Club is a nonprofit leadership series hosted the second Thursday of each month by&nbsp\;</span><a href="https://www.bigbuzzideagroup.com/" rel="nofollow noopener noreferrer" style="color: var(--eds-control\,#3659e3)\; text-decoration-line: none\; cursor: pointer\; background-color: transparent\; padding-top: 0px\;" target="_blank"><span style="color:#000000\;">Big Buzz Idea Group</span></a><span style="color:#000000\;">. It is designed to Power Up your nonprofit organization by providing leaders with information they need to spark the growth of their organization.</span></span></span></p>\n\n<p style="margin: 0px\; padding: 10px 0px 0px\; color: rgb(111\, 114\, 135)\; font-size: 16px\; line-height: 1.5rem\;"><span style="font-size:14px\;"><span style="font-family:arial\;"><span style="color:#000000\;"><span style="font-weight: 700\; padding-top: 0px\;">Big Buzz Idea Group</span>&nbsp\;works with nonprofits and associations that want their offices to run more efficiently so they can focus on their mission and organizational growth. We believe that leadership can more effectively work on their organization knowing that an honest and caring team is managing the day to day operations. For less than the cost of a single employee\, our experienced team executes a variety of back office tasks like bookkeeping\, social media management\, website management\, newsletter production\, member management\, donor relations\, and event planning.</span></span></span></p>\n</div>\n\n<div class="structured-content-rich-text structured-content__module l-align-left l-mar-vert-6 l-sm-mar-vert-4 text-body-medium" style="margin: 30px 0px\; padding: 0px\; font-size: 14.9333px\; line-height: 1.25rem\; text-rendering: optimizelegibility\; color: rgb(57\, 54\, 79)\; font-family: &quot\;Neue Plak&quot\;\, -apple-system\, BlinkMacSystemFont\, Roboto\, &quot\;Helvetica Neue&quot\;\, Helvetica\, Tahoma\, Arial\, sans-serif\; letter-spacing: 0.5px\;">\n<p style="margin: 0px\; padding: 0px\; color: rgb(111\, 114\, 135)\; font-size: 16px\; line-height: 1.5rem\;"><span style="font-size:14px\;"><span style="font-family:arial\;"><a href="https://bigbuzzideagroup.com/wp-3/sign-up-for-insights/" rel="nofollow noopener noreferrer" style="color: var(--eds-control\,#3659e3)\; text-decoration-line: none\; cursor: pointer\; background-color: transparent\; padding-top: 0px\;" target="_blank"><span style="color:#000000\;">Subscribe to Big Buzz Idea Group&#39\;s Monthly Newsletter&nbsp\;<em style="padding-top: 0px\;">Insights</em></span></a></span></span></p>\n</div>\n</div>\n</div>\n</div>\n</div>\n
LOCATION:Register here
UID:e.1775.16021
SEQUENCE:3
DTSTAMP:20260425T191617Z
URL:https://business.northcenterchamber.com/events/details/breakfast-club-a-conversation-on-fostering-diversity-equity-and-inclusion-16021
END:VEVENT

END:VCALENDAR
