BEGIN:VCALENDAR
VERSION:2.0
PRODID:-//ChamberMaster//Event Calendar 2.0//EN
METHOD:PUBLISH
X-PUBLISHED-TTL:P3D
REFRESH-INTERVAL:P3D
CALSCALE:GREGORIAN
BEGIN:VEVENT
DTSTART:20210317T200000Z
DTEND:20210317T213000Z
X-MICROSOFT-CDO-ALLDAYEVENT:FALSE
SUMMARY:Business Education Webinar: Understanding the 5C’s of Credit from a Lender’s Perspective
DESCRIPTION:Presented by the CIBC Bank\n\n\n\nWhether you're a business owner or thinking about starting your business\; you will learn what you need to know about bank financing products during this discussion. We will talk about credit\, capacity\, collateral\, character\, capitalization and loans\, lines of credit and other available resources that can help you on your entrepreneurial journey.
X-ALT-DESC;FMTTYPE=text/html:<p class="x_MsoNormal" style="margin: 0in 0in 0.0001pt\; box-sizing: border-box\; font-size: 11pt\; font-family: Calibri\, sans-serif\; color: rgb(32\, 31\, 30)\;"><em style="box-sizing: border-box\; color: rgb(33\, 33\, 33)\; font-family: Lora\, Roboto\, -apple-system\, BlinkMacSystemFont\, &quot\;Segoe UI&quot\;\, &quot\;Helvetica Neue&quot\;\, Arial\, &quot\;Noto Sans&quot\;\, sans-serif\, &quot\;Apple Color Emoji&quot\;\, &quot\;Segoe UI Emoji&quot\;\, &quot\;Segoe UI Symbol&quot\;\, &quot\;Noto Color Emoji&quot\;\; font-size: 15px\;">Presented by&nbsp\;the CIBC Bank</em><br />\n<br />\n<span style="color: rgb(33\, 33\, 33)\; font-family: Lora\, Roboto\, -apple-system\, BlinkMacSystemFont\, &quot\;Segoe UI&quot\;\, &quot\;Helvetica Neue&quot\;\, Arial\, &quot\;Noto Sans&quot\;\, sans-serif\, &quot\;Apple Color Emoji&quot\;\, &quot\;Segoe UI Emoji&quot\;\, &quot\;Segoe UI Symbol&quot\;\, &quot\;Noto Color Emoji&quot\;\; font-size: 15px\;">Whether you&rsquo\;re a business owner or thinking about starting your business\; you will learn what you need to know about bank financing products during this discussion. We will talk about credit\, capacity\, collateral\, character\, capitalization and loans\, lines of credit and other available resources that can help you on your entrepreneurial journey.</span></p>\n
LOCATION:Virtual Webinar
UID:e.1775.16099
SEQUENCE:3
DTSTAMP:20260421T115602Z
URL:https://business.northcenterchamber.com/events/details/business-education-webinar-understanding-the-5c-s-of-credit-from-a-lender-s-perspective-16099
END:VEVENT

END:VCALENDAR
