BEGIN:VCALENDAR
VERSION:2.0
PRODID:-//ChamberMaster//Event Calendar 2.0//EN
METHOD:PUBLISH
X-PUBLISHED-TTL:P3D
REFRESH-INTERVAL:P3D
CALSCALE:GREGORIAN
BEGIN:VEVENT
DTSTART:20210625T143000Z
DTEND:20210625T160000Z
X-MICROSOFT-CDO-ALLDAYEVENT:FALSE
SUMMARY:Business Education Workshop Webinar: Business Transformation Post-COVID
DESCRIPTION:Presented by David Johnson\, Abraxas Group LLC\n\n\n\nMany small and midsized businesses have seen the key underlying assumptions of their business models nullified by the coronavirus pandemic. This webinar will focus on helping business owners and leaders execute a successful business transformation that will allow companies so impacted to chart a course back to profitability and growth.
X-ALT-DESC;FMTTYPE=text/html:<p class="x_MsoNormal" style="margin: 0in 0in 0.0001pt\; box-sizing: border-box\; font-size: 11pt\; font-family: Calibri\, sans-serif\; color: rgb(32\, 31\, 30)\;"><em style="box-sizing: border-box\; color: rgb(33\, 33\, 33)\; font-family: Lora\, Roboto\, -apple-system\, BlinkMacSystemFont\, &quot\;Segoe UI&quot\;\, &quot\;Helvetica Neue&quot\;\, Arial\, &quot\;Noto Sans&quot\;\, sans-serif\, &quot\;Apple Color Emoji&quot\;\, &quot\;Segoe UI Emoji&quot\;\, &quot\;Segoe UI Symbol&quot\;\, &quot\;Noto Color Emoji&quot\;\; font-size: 15px\;">Presented by&nbsp\;David Johnson\, Abraxas Group LLC</em><br />\n<br style="box-sizing: border-box\;" />\n<span style="color: rgb(33\, 33\, 33)\; font-family: Lora\, Roboto\, -apple-system\, BlinkMacSystemFont\, &quot\;Segoe UI&quot\;\, &quot\;Helvetica Neue&quot\;\, Arial\, &quot\;Noto Sans&quot\;\, sans-serif\, &quot\;Apple Color Emoji&quot\;\, &quot\;Segoe UI Emoji&quot\;\, &quot\;Segoe UI Symbol&quot\;\, &quot\;Noto Color Emoji&quot\;\; font-size: 15px\;">Many small and midsized businesses have seen the key underlying assumptions of their business models nullified by the coronavirus pandemic. This webinar will focus on helping business owners and leaders execute a successful business transformation that will allow companies so impacted to chart a course back to profitability and growth.</span></p>\n
LOCATION:Virtual Webinar
UID:e.1775.16289
SEQUENCE:3
DTSTAMP:20260421T044921Z
URL:https://business.northcenterchamber.com/events/details/business-education-workshop-webinar-business-transformation-post-covid-16289
END:VEVENT

END:VCALENDAR
