BEGIN:VCALENDAR
VERSION:2.0
PRODID:-//ChamberMaster//Event Calendar 2.0//EN
METHOD:PUBLISH
X-PUBLISHED-TTL:P3D
REFRESH-INTERVAL:P3D
CALSCALE:GREGORIAN
BEGIN:VEVENT
DTSTART:20210210T210000Z
DTEND:20210210T223000Z
X-MICROSOFT-CDO-ALLDAYEVENT:FALSE
SUMMARY:Business Education Workshop Webinar: Capital\, Coaching\, and Collaboration for Small Businesses
DESCRIPTION:Presented by Allies for Community Business\n\n\n\nAllies for Community Business (formerly Accion Serving Illinois & Indiana) offers loans between $500 and $100\,000 to early\, emerging\, and established businesses at fair prices. Learn about their new lending process and their partnerships with other lenders for opportunities like the Paycheck Protection Program (PPP). Also learn about how A4CB provides free 1:1 coaching to anyone who wants to start or grow his or her business.\n\n\n\nFinally\, get information about A4CB's additional services including kitchen space at the Hatchery\, City licensing\, and procurement certification assistance.
X-ALT-DESC;FMTTYPE=text/html:<p class="x_MsoNormal" style="margin: 0in 0in 0.0001pt\; box-sizing: border-box\; font-size: 11pt\; font-family: Calibri\, sans-serif\; color: rgb(32\, 31\, 30)\;"><em style="box-sizing: border-box\; color: rgb(33\, 33\, 33)\; font-family: Lora\, Roboto\, -apple-system\, BlinkMacSystemFont\, &quot\;Segoe UI&quot\;\, &quot\;Helvetica Neue&quot\;\, Arial\, &quot\;Noto Sans&quot\;\, sans-serif\, &quot\;Apple Color Emoji&quot\;\, &quot\;Segoe UI Emoji&quot\;\, &quot\;Segoe UI Symbol&quot\;\, &quot\;Noto Color Emoji&quot\;\; font-size: 15px\;">Presented by&nbsp\;</em><em style="box-sizing: border-box\; color: rgb(33\, 33\, 33)\; font-family: Lora\, Roboto\, -apple-system\, BlinkMacSystemFont\, &quot\;Segoe UI&quot\;\, &quot\;Helvetica Neue&quot\;\, Arial\, &quot\;Noto Sans&quot\;\, sans-serif\, &quot\;Apple Color Emoji&quot\;\, &quot\;Segoe UI Emoji&quot\;\, &quot\;Segoe UI Symbol&quot\;\, &quot\;Noto Color Emoji&quot\;\; font-size: 15px\; background-color: rgb(255\, 255\, 255)\;">Allies for Community Business</em><br />\n<br style="box-sizing: border-box\;" />\n<span style="color: rgb(33\, 33\, 33)\; font-family: Lora\, Roboto\, -apple-system\, BlinkMacSystemFont\, &quot\;Segoe UI&quot\;\, &quot\;Helvetica Neue&quot\;\, Arial\, &quot\;Noto Sans&quot\;\, sans-serif\, &quot\;Apple Color Emoji&quot\;\, &quot\;Segoe UI Emoji&quot\;\, &quot\;Segoe UI Symbol&quot\;\, &quot\;Noto Color Emoji&quot\;\; font-size: 15px\;">Allies for Community Business (formerly Accion Serving Illinois &amp\; Indiana) offers loans between $500 and $100\,000 to early\, emerging\, and established businesses at fair prices. Learn about their new lending process and their partnerships with other lenders for opportunities like the Paycheck Protection Program (PPP). Also learn about how A4CB provides free 1:1 coaching to anyone who wants to start or grow his or her business.<br />\n<br />\nFinally\, get information about A4CB&rsquo\;s&nbsp\;</span><span style="color: rgb(33\, 33\, 33)\; font-family: Lora\, Roboto\, -apple-system\, BlinkMacSystemFont\, &quot\;Segoe UI&quot\;\, &quot\;Helvetica Neue&quot\;\, Arial\, &quot\;Noto Sans&quot\;\, sans-serif\, &quot\;Apple Color Emoji&quot\;\, &quot\;Segoe UI Emoji&quot\;\, &quot\;Segoe UI Symbol&quot\;\, &quot\;Noto Color Emoji&quot\;\; font-size: 15px\;">additional services including kitchen space at the Hatchery\, City licensing\, and procurement certification assistance</span><span style="box-sizing: border-box\; font-weight: bolder\; color: rgb(33\, 33\, 33)\; font-family: Lora\, Roboto\, -apple-system\, BlinkMacSystemFont\, &quot\;Segoe UI&quot\;\, &quot\;Helvetica Neue&quot\;\, Arial\, &quot\;Noto Sans&quot\;\, sans-serif\, &quot\;Apple Color Emoji&quot\;\, &quot\;Segoe UI Emoji&quot\;\, &quot\;Segoe UI Symbol&quot\;\, &quot\;Noto Color Emoji&quot\;\; font-size: 15px\;">.</span></p>\n
LOCATION:Virtual Webinar
UID:e.1775.16060
SEQUENCE:3
DTSTAMP:20260425T122656Z
URL:https://business.northcenterchamber.com/events/details/business-education-workshop-webinar-capital-coaching-and-collaboration-for-small-businesses-16060
END:VEVENT

END:VCALENDAR
