BEGIN:VCALENDAR
VERSION:2.0
PRODID:-//ChamberMaster//Event Calendar 2.0//EN
METHOD:PUBLISH
X-PUBLISHED-TTL:P3D
REFRESH-INTERVAL:P3D
CALSCALE:GREGORIAN
BEGIN:VEVENT
DTSTART:20210610T180000Z
DTEND:20210610T193000Z
X-MICROSOFT-CDO-ALLDAYEVENT:FALSE
SUMMARY:Business Education Workshop Webinar: Chicago’s New Online Portal for Shared Housing Registration
DESCRIPTION:Presented by  the Department of Business Affairs and Consumer Protection\n\n\n\nOn June 1\, 2021\, Chicago launched a new online portal for Shared Housing Registration Applications. Join this webinar for an overview of the new portal and how to register as a Shared Housing Host.
X-ALT-DESC;FMTTYPE=text/html:<p class="x_MsoNormal" style="margin: 0in 0in 0.0001pt\; box-sizing: border-box\; font-size: 11pt\; font-family: Calibri\, sans-serif\; color: rgb(32\, 31\, 30)\;"><em style="box-sizing: border-box\; color: rgb(33\, 33\, 33)\; font-family: Lora\, Roboto\, -apple-system\, BlinkMacSystemFont\, &quot\;Segoe UI&quot\;\, &quot\;Helvetica Neue&quot\;\, Arial\, &quot\;Noto Sans&quot\;\, sans-serif\, &quot\;Apple Color Emoji&quot\;\, &quot\;Segoe UI Emoji&quot\;\, &quot\;Segoe UI Symbol&quot\;\, &quot\;Noto Color Emoji&quot\;\; font-size: 15px\;">Presented by&nbsp\;&nbsp\;the Department of Business Affairs and Consumer Protection</em><br />\n<br style="box-sizing: border-box\;" />\n<span style="color: rgb(33\, 33\, 33)\; font-family: Lora\, Roboto\, -apple-system\, BlinkMacSystemFont\, &quot\;Segoe UI&quot\;\, &quot\;Helvetica Neue&quot\;\, Arial\, &quot\;Noto Sans&quot\;\, sans-serif\, &quot\;Apple Color Emoji&quot\;\, &quot\;Segoe UI Emoji&quot\;\, &quot\;Segoe UI Symbol&quot\;\, &quot\;Noto Color Emoji&quot\;\; font-size: 15px\;">On June 1\, 2021\, Chicago launched a new online portal for Shared Housing Registration Applications. Join this webinar for an overview of the new portal and how to register as a Shared Housing Host.</span></p>\n
LOCATION:Virtual Webinar
UID:e.1775.16290
SEQUENCE:3
DTSTAMP:20260421T045058Z
URL:https://business.northcenterchamber.com/events/details/business-education-workshop-webinar-chicago-s-new-online-portal-for-shared-housing-registration-16290
END:VEVENT

END:VCALENDAR
