BEGIN:VCALENDAR
VERSION:2.0
PRODID:-//ChamberMaster//Event Calendar 2.0//EN
METHOD:PUBLISH
X-PUBLISHED-TTL:P3D
REFRESH-INTERVAL:P3D
CALSCALE:GREGORIAN
BEGIN:VEVENT
DTSTART:20210602T200000Z
DTEND:20210602T213000Z
X-MICROSOFT-CDO-ALLDAYEVENT:FALSE
SUMMARY:Business Education Workshop Webinar: City Inspections - Ask Questions\, Get Answers
DESCRIPTION:Presented by the City of Chicago\n\n\n\nThe Chicago Department of Business Affairs & Consumer Protection\, Department of Public Health\, and the Department of Buildings will provide insight on how operate a compliant business in the City of Chicago. Topics covered will include how to prepare for inspections\, building permits and sign display requirements\, food inspection overview and necessary certificates\, and zoning review procedures. Learn how to operate safely and avoid common setbacks.
X-ALT-DESC;FMTTYPE=text/html:<p class="x_MsoNormal" style="margin: 0in 0in 0.0001pt\; box-sizing: border-box\; font-size: 11pt\; font-family: Calibri\, sans-serif\; color: rgb(32\, 31\, 30)\;"><em style="box-sizing: border-box\; color: rgb(33\, 33\, 33)\; font-family: Lora\, Roboto\, -apple-system\, BlinkMacSystemFont\, &quot\;Segoe UI&quot\;\, &quot\;Helvetica Neue&quot\;\, Arial\, &quot\;Noto Sans&quot\;\, sans-serif\, &quot\;Apple Color Emoji&quot\;\, &quot\;Segoe UI Emoji&quot\;\, &quot\;Segoe UI Symbol&quot\;\, &quot\;Noto Color Emoji&quot\;\; font-size: 15px\;">Presented by the City of Chicago</em><br />\n<br style="box-sizing: border-box\;" />\n<span style="color: rgb(33\, 33\, 33)\; font-family: Lora\, Roboto\, -apple-system\, BlinkMacSystemFont\, &quot\;Segoe UI&quot\;\, &quot\;Helvetica Neue&quot\;\, Arial\, &quot\;Noto Sans&quot\;\, sans-serif\, &quot\;Apple Color Emoji&quot\;\, &quot\;Segoe UI Emoji&quot\;\, &quot\;Segoe UI Symbol&quot\;\, &quot\;Noto Color Emoji&quot\;\; font-size: 15px\;">The Chicago Department of Business Affairs &amp\; Consumer Protection\, Department of Public Health\, and the Department of Buildings will provide insight on how operate a compliant business in the City of Chicago. Topics covered will include how to prepare for inspections\, building permits and sign display requirements\, food inspection overview and necessary certificates\, and zoning review procedures. Learn how to operate safely and avoid common setbacks.</span></p>\n
LOCATION:Virtual Webinar
UID:e.1775.16283
SEQUENCE:3
DTSTAMP:20260421T045128Z
URL:https://business.northcenterchamber.com/events/details/business-education-workshop-webinar-city-inspections-ask-questions-get-answers-16283
END:VEVENT

END:VCALENDAR
