BEGIN:VCALENDAR
VERSION:2.0
PRODID:-//ChamberMaster//Event Calendar 2.0//EN
METHOD:PUBLISH
X-PUBLISHED-TTL:P3D
REFRESH-INTERVAL:P3D
CALSCALE:GREGORIAN
BEGIN:VEVENT
DTSTART:20210604T143000Z
DTEND:20210604T160000Z
X-MICROSOFT-CDO-ALLDAYEVENT:FALSE
SUMMARY:Business Education Workshop Webinar: Contracting\, Certification and Compliance with the City of Chicago
DESCRIPTION:Presented by Department of Procurement Services (DPS) \n\n\n\nThis informational session will highlight the role and responsibility of DPS in the City of Chicago's purchasing process and how businesses can learn about opportunities\, as well as the certification process for minority\, women-owned\, veteran-owned and disadvantaged businesses.
X-ALT-DESC;FMTTYPE=text/html:<p class="x_MsoNormal" style="margin: 0in 0in 0.0001pt\; box-sizing: border-box\; font-size: 11pt\; font-family: Calibri\, sans-serif\; color: rgb(32\, 31\, 30)\;"><em style="box-sizing: border-box\; color: rgb(33\, 33\, 33)\; font-family: Lora\, Roboto\, -apple-system\, BlinkMacSystemFont\, &quot\;Segoe UI&quot\;\, &quot\;Helvetica Neue&quot\;\, Arial\, &quot\;Noto Sans&quot\;\, sans-serif\, &quot\;Apple Color Emoji&quot\;\, &quot\;Segoe UI Emoji&quot\;\, &quot\;Segoe UI Symbol&quot\;\, &quot\;Noto Color Emoji&quot\;\; font-size: 15px\;">Presented by&nbsp\;Department of Procurement Services (DPS)&nbsp\;</em><br />\n<br style="box-sizing: border-box\; color: rgb(33\, 33\, 33)\; font-family: Lora\, Roboto\, -apple-system\, BlinkMacSystemFont\, &quot\;Segoe UI&quot\;\, &quot\;Helvetica Neue&quot\;\, Arial\, &quot\;Noto Sans&quot\;\, sans-serif\, &quot\;Apple Color Emoji&quot\;\, &quot\;Segoe UI Emoji&quot\;\, &quot\;Segoe UI Symbol&quot\;\, &quot\;Noto Color Emoji&quot\;\; font-size: 15px\;" />\n<span style="color: rgb(33\, 33\, 33)\; font-family: Lora\, Roboto\, -apple-system\, BlinkMacSystemFont\, &quot\;Segoe UI&quot\;\, &quot\;Helvetica Neue&quot\;\, Arial\, &quot\;Noto Sans&quot\;\, sans-serif\, &quot\;Apple Color Emoji&quot\;\, &quot\;Segoe UI Emoji&quot\;\, &quot\;Segoe UI Symbol&quot\;\, &quot\;Noto Color Emoji&quot\;\; font-size: 15px\;">This informational session will highlight the role and responsibility of DPS in the City of Chicago&rsquo\;s purchasing process and how businesses can learn about opportunities\, as well as the certification process for minority\, women-owned\, veteran-owned and disadvantaged businesses.</span></p>\n
LOCATION:Virtual Webinar
UID:e.1775.16284
SEQUENCE:3
DTSTAMP:20260421T045205Z
URL:https://business.northcenterchamber.com/events/details/business-education-workshop-webinar-contracting-certification-and-compliance-with-the-city-of-chicago-16284
END:VEVENT

END:VCALENDAR
