BEGIN:VCALENDAR
VERSION:2.0
PRODID:-//ChamberMaster//Event Calendar 2.0//EN
METHOD:PUBLISH
X-PUBLISHED-TTL:P3D
REFRESH-INTERVAL:P3D
CALSCALE:GREGORIAN
BEGIN:VEVENT
DTSTART:20210305T153000Z
DTEND:20210305T170000Z
X-MICROSOFT-CDO-ALLDAYEVENT:FALSE
SUMMARY:Business Education Workshop Webinar: Fighting Fraud
DESCRIPTION:Presented by the City of Chicago Department of Business Affairs & Consumer Protection\n\n\n\nWhen it comes to avoiding consumer fraud\, knowledge is power! In this webinar\, businesses and consumers alike will learn about the various types of fraud BACP prosecutes\, how to avoid falling victim to common schemes\, and what you can do to fight back if it happens to you.
X-ALT-DESC;FMTTYPE=text/html:<p class="x_MsoNormal" style="margin: 0in 0in 0.0001pt\; box-sizing: border-box\; font-size: 11pt\; font-family: Calibri\, sans-serif\; color: rgb(32\, 31\, 30)\;"><em style="box-sizing: border-box\; color: rgb(33\, 33\, 33)\; font-family: Lora\, Roboto\, -apple-system\, BlinkMacSystemFont\, &quot\;Segoe UI&quot\;\, &quot\;Helvetica Neue&quot\;\, Arial\, &quot\;Noto Sans&quot\;\, sans-serif\, &quot\;Apple Color Emoji&quot\;\, &quot\;Segoe UI Emoji&quot\;\, &quot\;Segoe UI Symbol&quot\;\, &quot\;Noto Color Emoji&quot\;\; font-size: 15px\;">Presented by&nbsp\;the City of Chicago Department of Business Affairs &amp\; Consumer Protection</em><br />\n<br />\n<span style="color: rgb(33\, 33\, 33)\; font-family: Lora\, Roboto\, -apple-system\, BlinkMacSystemFont\, &quot\;Segoe UI&quot\;\, &quot\;Helvetica Neue&quot\;\, Arial\, &quot\;Noto Sans&quot\;\, sans-serif\, &quot\;Apple Color Emoji&quot\;\, &quot\;Segoe UI Emoji&quot\;\, &quot\;Segoe UI Symbol&quot\;\, &quot\;Noto Color Emoji&quot\;\; font-size: 15px\;">When it comes to avoiding consumer fraud\, knowledge is power! In this webinar\, businesses and consumers alike will learn about the various types of fraud BACP prosecutes\, how to avoid falling victim to common schemes\, and what you can do to fight back if it happens to you.&nbsp\;</span></p>\n
LOCATION:Virtual Webinar
UID:e.1775.16073
SEQUENCE:3
DTSTAMP:20260421T100840Z
URL:https://business.northcenterchamber.com/events/details/business-education-workshop-webinar-fighting-fraud-16073
END:VEVENT

END:VCALENDAR
