BEGIN:VCALENDAR
VERSION:2.0
PRODID:-//ChamberMaster//Event Calendar 2.0//EN
METHOD:PUBLISH
X-PUBLISHED-TTL:P3D
REFRESH-INTERVAL:P3D
CALSCALE:GREGORIAN
BEGIN:VEVENT
DTSTART:20210122T153000Z
DTEND:20210122T163000Z
X-MICROSOFT-CDO-ALLDAYEVENT:FALSE
SUMMARY:Business Education Workshop Webinar: Getting Started in SEO - An Introduction to Search Engine Optimization
DESCRIPTION:Presented by Edwin Romero\, edwindanromero.com\n\n\n\nSearch Engine Optimization (SEO)\, or the process of improving search engine visibility\, is a marketing channel that is often either overlooked or misunderstood by small business owners. In this webinar\, we will review the significance of SEO for small business owners\, how SEO can serve as a long term\, cost efficient marketing channel and what fundamental best practices should be kept in mind when optimizing for SEO.
X-ALT-DESC;FMTTYPE=text/html:<p class="x_MsoNormal" style="margin: 0in 0in 0.0001pt\; box-sizing: border-box\; font-size: 11pt\; font-family: Calibri\, sans-serif\; color: rgb(32\, 31\, 30)\;"><span style="font-size:14px\;"><span style="font-family:arial\;"><em style="box-sizing: border-box\; color: rgb(33\, 33\, 33)\; font-family: Lora\, Roboto\, -apple-system\, BlinkMacSystemFont\, &quot\;Segoe UI&quot\;\, &quot\;Helvetica Neue&quot\;\, Arial\, &quot\;Noto Sans&quot\;\, sans-serif\, &quot\;Apple Color Emoji&quot\;\, &quot\;Segoe UI Emoji&quot\;\, &quot\;Segoe UI Symbol&quot\;\, &quot\;Noto Color Emoji&quot\;\; font-size: 15px\;">Presented by Edwin Romero\, edwindanromero.com</em><br />\n<br style="box-sizing: border-box\;" />\n<span style="color: rgb(33\, 33\, 33)\;">Search Engine Optimization (SEO)\, or the process of improving search engine visibility\, is a marketing channel that is often either overlooked or misunderstood by small business owners. In this webinar\, we will review the significance of SEO for small business owners\, how SEO can serve as a long term\, cost efficient marketing channel and what fundamental best practices should be kept in mind when optimizing for SEO.</span></span></span></p>\n
LOCATION:Virtual Webinar
UID:e.1775.16050
SEQUENCE:3
DTSTAMP:20260425T140830Z
URL:https://business.northcenterchamber.com/events/details/business-education-workshop-webinar-getting-started-in-seo-an-introduction-to-search-engine-optimization-16050
END:VEVENT

END:VCALENDAR
