BEGIN:VCALENDAR
VERSION:2.0
PRODID:-//ChamberMaster//Event Calendar 2.0//EN
METHOD:PUBLISH
X-PUBLISHED-TTL:P3D
REFRESH-INTERVAL:P3D
CALSCALE:GREGORIAN
BEGIN:VEVENT
DTSTART:20210226T153000Z
DTEND:20210226T170000Z
X-MICROSOFT-CDO-ALLDAYEVENT:FALSE
SUMMARY:Business Education Workshop Webinar: Google Analytics 101
DESCRIPTION:Presented by Francisco Ramirez\, Chimbly Consultants\n\n\n\nIf you want to know where you're going\, first you have to know where you are. This workshop will teach you how to get started with Google Analytics and give you a basic understanding of the metrics and tools it offers.  You will be able to analyze how your website currently performs and generate actionable insights so that you can create SMART goals to move your business forward.
X-ALT-DESC;FMTTYPE=text/html:<p class="x_MsoNormal" style="margin: 0in 0in 0.0001pt\; box-sizing: border-box\; font-size: 11pt\; font-family: Calibri\, sans-serif\; color: rgb(32\, 31\, 30)\;"><em style="box-sizing: border-box\; color: rgb(33\, 33\, 33)\; font-family: Lora\, Roboto\, -apple-system\, BlinkMacSystemFont\, &quot\;Segoe UI&quot\;\, &quot\;Helvetica Neue&quot\;\, Arial\, &quot\;Noto Sans&quot\;\, sans-serif\, &quot\;Apple Color Emoji&quot\;\, &quot\;Segoe UI Emoji&quot\;\, &quot\;Segoe UI Symbol&quot\;\, &quot\;Noto Color Emoji&quot\;\; font-size: 15px\;">Presented by&nbsp\;Francisco Ramirez\, Chimbly Consultants</em><br />\n<br />\n<span style="color: rgb(33\, 33\, 33)\; font-family: Lora\, Roboto\, -apple-system\, BlinkMacSystemFont\, &quot\;Segoe UI&quot\;\, &quot\;Helvetica Neue&quot\;\, Arial\, &quot\;Noto Sans&quot\;\, sans-serif\, &quot\;Apple Color Emoji&quot\;\, &quot\;Segoe UI Emoji&quot\;\, &quot\;Segoe UI Symbol&quot\;\, &quot\;Noto Color Emoji&quot\;\; font-size: 15px\;">If you want to know where you&#39\;re going\, first you have to know where you are. This workshop will teach you how to get started with Google Analytics and give you a basic understanding of the metrics and tools it offers.&nbsp\; You will be able to analyze how your website currently performs and generate actionable insights so that you can create SMART goals to move your business forward.</span></p>\n
LOCATION:Virtual Webinar
UID:e.1775.16064
SEQUENCE:3
DTSTAMP:20260425T122143Z
URL:https://business.northcenterchamber.com/events/details/business-education-workshop-webinar-google-analytics-101-16064
END:VEVENT

END:VCALENDAR
