BEGIN:VCALENDAR
VERSION:2.0
PRODID:-//ChamberMaster//Event Calendar 2.0//EN
METHOD:PUBLISH
X-PUBLISHED-TTL:P3D
REFRESH-INTERVAL:P3D
CALSCALE:GREGORIAN
BEGIN:VEVENT
DTSTART:20210224T210000Z
DTEND:20210224T223000Z
X-MICROSOFT-CDO-ALLDAYEVENT:FALSE
SUMMARY:Business Education Workshop Webinar: Grow Your Small Business with Grants Up to $250K
DESCRIPTION:Presented by The City of Chicago Department of Planning and Development (DPD)\n\n\n\nStaff from the Department of Planning and Development (DPD) will provide summary\, timeline\, and application information for the department's two biggest grant programs: the Neighborhood Opportunity Fund (NOF) and the Small Business Improvement Fund (SBIF)\, each of which offer cash assistance to businesses looking to start or grow their operation.
X-ALT-DESC;FMTTYPE=text/html:<p class="x_MsoNormal" style="margin: 0in 0in 0.0001pt\; box-sizing: border-box\; font-size: 11pt\; font-family: Calibri\, sans-serif\; color: rgb(32\, 31\, 30)\;"><em style="box-sizing: border-box\; color: rgb(33\, 33\, 33)\; font-family: Lora\, Roboto\, -apple-system\, BlinkMacSystemFont\, &quot\;Segoe UI&quot\;\, &quot\;Helvetica Neue&quot\;\, Arial\, &quot\;Noto Sans&quot\;\, sans-serif\, &quot\;Apple Color Emoji&quot\;\, &quot\;Segoe UI Emoji&quot\;\, &quot\;Segoe UI Symbol&quot\;\, &quot\;Noto Color Emoji&quot\;\; font-size: 15px\;">Presented by The City of Chicago Department of Planning and Development (DPD)</em><br />\n<br />\n<span style="color: rgb(33\, 33\, 33)\; font-family: Lora\, Roboto\, -apple-system\, BlinkMacSystemFont\, &quot\;Segoe UI&quot\;\, &quot\;Helvetica Neue&quot\;\, Arial\, &quot\;Noto Sans&quot\;\, sans-serif\, &quot\;Apple Color Emoji&quot\;\, &quot\;Segoe UI Emoji&quot\;\, &quot\;Segoe UI Symbol&quot\;\, &quot\;Noto Color Emoji&quot\;\; font-size: 15px\;">Staff from the Department of Planning and Development (DPD) will provide summary\, timeline\, and application information for the department&#39\;s two biggest grant programs: the Neighborhood Opportunity Fund (NOF) and the Small Business Improvement Fund (SBIF)\, each of which offer cash assistance to businesses looking to&nbsp\;</span><span style="color: rgb(33\, 33\, 33)\; font-family: Lora\, Roboto\, -apple-system\, BlinkMacSystemFont\, &quot\;Segoe UI&quot\;\, &quot\;Helvetica Neue&quot\;\, Arial\, &quot\;Noto Sans&quot\;\, sans-serif\, &quot\;Apple Color Emoji&quot\;\, &quot\;Segoe UI Emoji&quot\;\, &quot\;Segoe UI Symbol&quot\;\, &quot\;Noto Color Emoji&quot\;\; font-size: 15px\;">start or grow their operation.</span></p>\n
LOCATION:Virtual Webinar
UID:e.1775.16063
SEQUENCE:3
DTSTAMP:20260425T123750Z
URL:https://business.northcenterchamber.com/events/details/business-education-workshop-webinar-grow-your-small-business-with-grants-up-to-250k-16063
END:VEVENT

END:VCALENDAR
