BEGIN:VCALENDAR
VERSION:2.0
PRODID:-//ChamberMaster//Event Calendar 2.0//EN
METHOD:PUBLISH
X-PUBLISHED-TTL:P3D
REFRESH-INTERVAL:P3D
CALSCALE:GREGORIAN
BEGIN:VEVENT
DTSTART:20210113T210000Z
DTEND:20210113T220000Z
X-MICROSOFT-CDO-ALLDAYEVENT:FALSE
SUMMARY:Business Education Workshop Webinar: How to Become Certified
DESCRIPTION:Presented by the City of Chicago Department of Procurement Services (DPS) \n\n\n\nDPS is the certifying agency for the following certifications: Minority-Owned Business Enterprise (MBE)\, Women-Owned Business Enterprise (WBE)\, Veteran-Owned Business (VBE)\, Business Enterprise for People with Disabilities (BEPD)\, Disadvantaged Business Enterprise (DBE) and Airport Concessions Disadvantaged Business Enterprise (ACDBE).\n\n\n\nThis webinar will provide detailed information on who is qualified to be a Chicago certified firm. Learn out what documents are needed when submitting an application and how to avoid the most common mistakes in the certification process. Subject matter experts will be on-hand to answer all your questions about common certification topics.
X-ALT-DESC;FMTTYPE=text/html:<em style="color: rgb(32\, 31\, 30)\; font-family: arial\; font-size: 14px\;">Presented by the City of Chicago Department of Procurement Services (DPS)&nbsp\;</em><br style="color: rgb(32\, 31\, 30)\; font-family: arial\; font-size: 14px\;" />\n<br style="box-sizing: border-box\; color: rgb(33\, 33\, 33)\; font-family: Lora\, Roboto\, -apple-system\, system-ui\, &quot\;Segoe UI&quot\;\, &quot\;Helvetica Neue&quot\;\, Arial\, &quot\;Noto Sans&quot\;\, sans-serif\, &quot\;Apple Color Emoji&quot\;\, &quot\;Segoe UI Emoji&quot\;\, &quot\;Segoe UI Symbol&quot\;\, &quot\;Noto Color Emoji&quot\;\; font-size: 15px\;" />\n<span style="font-family: arial\; font-size: 14px\; color: rgb(33\, 33\, 33)\;">DPS is the certifying agency for the following certifications: Minority-Owned Business Enterprise (MBE)\, Women-Owned Business Enterprise (WBE)\, Veteran-Owned Business (VBE)\, Business Enterprise for People with Disabilities (BEPD)\, Disadvantaged Business Enterprise (DBE) and Airport Concessions&nbsp\;</span><span style="font-family: arial\; font-size: 14px\; color: rgb(33\, 33\, 33)\;">Disadvantaged Business Enterprise (ACDBE).</span><br style="color: rgb(32\, 31\, 30)\; font-family: arial\; font-size: 14px\;" />\n<br style="box-sizing: border-box\; color: rgb(33\, 33\, 33)\; font-family: Lora\, Roboto\, -apple-system\, system-ui\, &quot\;Segoe UI&quot\;\, &quot\;Helvetica Neue&quot\;\, Arial\, &quot\;Noto Sans&quot\;\, sans-serif\, &quot\;Apple Color Emoji&quot\;\, &quot\;Segoe UI Emoji&quot\;\, &quot\;Segoe UI Symbol&quot\;\, &quot\;Noto Color Emoji&quot\;\; font-size: 15px\;" />\n<span style="font-family: arial\; font-size: 14px\; color: rgb(33\, 33\, 33)\;">This webinar will provide detailed information on who is qualified to be a Chicago certified firm. Learn out what documents are needed when submitting an application and how to avoid the most common mistakes in the certification process. Subject matter experts will be on-hand to answer all your questions about common certification topics.</span>
LOCATION:Virtual Webinar
UID:e.1775.16047
SEQUENCE:3
DTSTAMP:20260425T140931Z
URL:https://business.northcenterchamber.com/events/details/business-education-workshop-webinar-how-to-become-certified-16047
END:VEVENT

END:VCALENDAR
