BEGIN:VCALENDAR
VERSION:2.0
PRODID:-//ChamberMaster//Event Calendar 2.0//EN
METHOD:PUBLISH
X-PUBLISHED-TTL:P3D
REFRESH-INTERVAL:P3D
CALSCALE:GREGORIAN
BEGIN:VEVENT
DTSTART:20210618T143000Z
DTEND:20210618T160000Z
X-MICROSOFT-CDO-ALLDAYEVENT:FALSE
SUMMARY:Business Education Workshop Webinar: How to Open a Concession at O'Hare and Midway International Airports
DESCRIPTION:Presented by the Chicago Department of Aviation - Concessions Department and Unison Retail Management\n\n\n\nAre you interested in operating a restaurant or retail shop at O'Hare or Midway International Airport\, but don't know where to begin? Come and learn about the Request for Proposals (RFP) process and how to operate a business at the airport.  This workshop also provides an overview of the O'Hare\, and Midway airport current Concessions programs\; the Disadvantaged Business Enterprise (ACDBE) program\; and the O'Hare 21 future expansion.  Lastly\, we will provide you with all the resources you will need to get started.
X-ALT-DESC;FMTTYPE=text/html:<p class="x_MsoNormal" style="margin: 0in 0in 0.0001pt\; box-sizing: border-box\; font-size: 11pt\; font-family: Calibri\, sans-serif\; color: rgb(32\, 31\, 30)\;"><em style="box-sizing: border-box\; color: rgb(33\, 33\, 33)\; font-family: Lora\, Roboto\, -apple-system\, BlinkMacSystemFont\, &quot\;Segoe UI&quot\;\, &quot\;Helvetica Neue&quot\;\, Arial\, &quot\;Noto Sans&quot\;\, sans-serif\, &quot\;Apple Color Emoji&quot\;\, &quot\;Segoe UI Emoji&quot\;\, &quot\;Segoe UI Symbol&quot\;\, &quot\;Noto Color Emoji&quot\;\; font-size: 15px\;">Presented by&nbsp\;the Chicago Department of Aviation - Concessions Department and Unison Retail Management</em><br />\n<br style="box-sizing: border-box\;" />\n<span style="color: rgb(33\, 33\, 33)\; font-family: Lora\, Roboto\, -apple-system\, BlinkMacSystemFont\, &quot\;Segoe UI&quot\;\, &quot\;Helvetica Neue&quot\;\, Arial\, &quot\;Noto Sans&quot\;\, sans-serif\, &quot\;Apple Color Emoji&quot\;\, &quot\;Segoe UI Emoji&quot\;\, &quot\;Segoe UI Symbol&quot\;\, &quot\;Noto Color Emoji&quot\;\; font-size: 15px\;">Are you interested in operating a restaurant or retail shop at O&#39\;Hare or Midway International Airport\, but don&#39\;t know where to begin? Come and learn about the Request for Proposals (RFP) process and how to operate a business at the airport.&nbsp\; This workshop also provides an overview of the O&#39\;Hare\, and Midway airport current Concessions programs\; the Disadvantaged Business Enterprise (ACDBE) program\; and the O&#39\;Hare 21 future expansion.&nbsp\; Lastly\, we will provide you with all the resources you will need to get started.</span></p>\n
LOCATION:Virtual Webinar
UID:e.1775.16288
SEQUENCE:3
DTSTAMP:20260421T045308Z
URL:https://business.northcenterchamber.com/events/details/business-education-workshop-webinar-how-to-open-a-concession-at-o-hare-and-midway-international-airports-16288
END:VEVENT

END:VCALENDAR
