BEGIN:VCALENDAR
VERSION:2.0
PRODID:-//ChamberMaster//Event Calendar 2.0//EN
METHOD:PUBLISH
X-PUBLISHED-TTL:P3D
REFRESH-INTERVAL:P3D
CALSCALE:GREGORIAN
BEGIN:VEVENT
DTSTART:20210129T153000Z
DTEND:20210129T163000Z
X-MICROSOFT-CDO-ALLDAYEVENT:FALSE
SUMMARY:Business Education Workshop Webinar: How to Start a Business in Illinois
DESCRIPTION:Presented by Maura Mitchell (Women's Business Development Center) and Lema Khorshid (Fuksa Khorshid Law Firm)\n\n\n\nAre you considering starting a business in Illinois?  During the webinar we will take an initial assessment to help you recognize your startup strengths\, introduce you to five basic startup steps\, and review some legal tips recommended for startups.
X-ALT-DESC;FMTTYPE=text/html:<p class="x_MsoNormal" style="margin: 0in 0in 0.0001pt\; box-sizing: border-box\; font-size: 11pt\; font-family: Calibri\, sans-serif\; color: rgb(32\, 31\, 30)\;"><em style="box-sizing: border-box\; color: rgb(33\, 33\, 33)\; font-family: Lora\, Roboto\, -apple-system\, BlinkMacSystemFont\, &quot\;Segoe UI&quot\;\, &quot\;Helvetica Neue&quot\;\, Arial\, &quot\;Noto Sans&quot\;\, sans-serif\, &quot\;Apple Color Emoji&quot\;\, &quot\;Segoe UI Emoji&quot\;\, &quot\;Segoe UI Symbol&quot\;\, &quot\;Noto Color Emoji&quot\;\; font-size: 15px\;">Presented by Maura Mitchell (Women&rsquo\;s Business Development Center) and Lema Khorshid (Fuksa Khorshid Law Firm)</em><br />\n<br style="box-sizing: border-box\;" />\n<span style="color: rgb(33\, 33\, 33)\; font-family: Lora\, Roboto\, -apple-system\, BlinkMacSystemFont\, &quot\;Segoe UI&quot\;\, &quot\;Helvetica Neue&quot\;\, Arial\, &quot\;Noto Sans&quot\;\, sans-serif\, &quot\;Apple Color Emoji&quot\;\, &quot\;Segoe UI Emoji&quot\;\, &quot\;Segoe UI Symbol&quot\;\, &quot\;Noto Color Emoji&quot\;\; font-size: 15px\;">Are you considering starting a business in Illinois?&nbsp\; During the webinar we will take an initial assessment to help you recognize your startup strengths\, introduce you to five basic startup steps\, and review some legal tips recommended for startups.</span></p>\n
LOCATION:Virtual Webinar
UID:e.1775.16052
SEQUENCE:3
DTSTAMP:20260425T141110Z
URL:https://business.northcenterchamber.com/events/details/business-education-workshop-webinar-how-to-start-a-business-in-illinois-16052
END:VEVENT

END:VCALENDAR
