BEGIN:VCALENDAR
VERSION:2.0
PRODID:-//ChamberMaster//Event Calendar 2.0//EN
METHOD:PUBLISH
X-PUBLISHED-TTL:P3D
REFRESH-INTERVAL:P3D
CALSCALE:GREGORIAN
BEGIN:VEVENT
DTSTART:20210416T143000Z
DTEND:20210416T160000Z
X-MICROSOFT-CDO-ALLDAYEVENT:FALSE
SUMMARY:Business Education Workshop Webinar: How to Write a Business Plan. What you need to know!
DESCRIPTION:Presented by Donna R. Rockin\, Managing Partner at Rockin Enterprises\, Inc.\n\n\n\nLearn how to create a comprehensive business plan. It's easier than you think when you understand all the components that get included. You'll receive a complete list of what to include to demystify the process. Writing a solid business plan is your roadmap to business success.
X-ALT-DESC;FMTTYPE=text/html:<p class="x_MsoNormal" style="margin: 0in 0in 0.0001pt\; box-sizing: border-box\; font-size: 11pt\; font-family: Calibri\, sans-serif\; color: rgb(32\, 31\, 30)\;"><em style="box-sizing: border-box\; color: rgb(33\, 33\, 33)\; font-family: Lora\, Roboto\, -apple-system\, BlinkMacSystemFont\, &quot\;Segoe UI&quot\;\, &quot\;Helvetica Neue&quot\;\, Arial\, &quot\;Noto Sans&quot\;\, sans-serif\, &quot\;Apple Color Emoji&quot\;\, &quot\;Segoe UI Emoji&quot\;\, &quot\;Segoe UI Symbol&quot\;\, &quot\;Noto Color Emoji&quot\;\; font-size: 15px\;">Presented by&nbsp\;Donna R. Rockin\, Managing Partner at Rockin Enterprises\, Inc.</em><br />\n<br />\n<span style="color: rgb(33\, 33\, 33)\; font-family: Lora\, Roboto\, -apple-system\, BlinkMacSystemFont\, &quot\;Segoe UI&quot\;\, &quot\;Helvetica Neue&quot\;\, Arial\, &quot\;Noto Sans&quot\;\, sans-serif\, &quot\;Apple Color Emoji&quot\;\, &quot\;Segoe UI Emoji&quot\;\, &quot\;Segoe UI Symbol&quot\;\, &quot\;Noto Color Emoji&quot\;\; font-size: 15px\;">Learn how to create a comprehensive business plan. It&#39\;s easier than you think when you understand all the components that get included. You&#39\;ll receive a complete list of what to include to demystify the process. Writing a solid business plan is your roadmap to business success.</span></p>\n
LOCATION:Virtual Webinar
UID:e.1775.16108
SEQUENCE:3
DTSTAMP:20260423T083341Z
URL:https://business.northcenterchamber.com/events/details/business-education-workshop-webinar-how-to-write-a-business-plan-what-you-need-to-know-16108
END:VEVENT

END:VCALENDAR
