BEGIN:VCALENDAR
VERSION:2.0
PRODID:-//ChamberMaster//Event Calendar 2.0//EN
METHOD:PUBLISH
X-PUBLISHED-TTL:P3D
REFRESH-INTERVAL:P3D
CALSCALE:GREGORIAN
BEGIN:VEVENT
DTSTART:20210428T200000Z
DTEND:20210428T213000Z
X-MICROSOFT-CDO-ALLDAYEVENT:FALSE
SUMMARY:Business Education Workshop Webinar: Know Your Rights
DESCRIPTION:The Office of Labor Standards presents overview of worker rights and employer responsibilities during COVID-19 under Minimum Wage\, Paid Sick Leave\, Anti-Retaliation Ordinances.
X-ALT-DESC;FMTTYPE=text/html:<p class="x_MsoNormal" style="margin: 0in 0in 0.0001pt\; box-sizing: border-box\; font-size: 11pt\; font-family: Calibri\, sans-serif\; color: rgb(32\, 31\, 30)\;"><span style="color: rgb(33\, 33\, 33)\; font-family: Lora\, Roboto\, -apple-system\, BlinkMacSystemFont\, &quot\;Segoe UI&quot\;\, &quot\;Helvetica Neue&quot\;\, Arial\, &quot\;Noto Sans&quot\;\, sans-serif\, &quot\;Apple Color Emoji&quot\;\, &quot\;Segoe UI Emoji&quot\;\, &quot\;Segoe UI Symbol&quot\;\, &quot\;Noto Color Emoji&quot\;\; font-size: 15px\;">The Office of Labor Standards presents overview of worker rights and employer responsibilities during COVID-19 under Minimum Wage\, Paid Sick Leave\, Anti-Retaliation Ordinances.</span></p>\n
LOCATION:Virtual Webinar
UID:e.1775.16107
SEQUENCE:3
DTSTAMP:20260423T084502Z
URL:https://business.northcenterchamber.com/events/details/business-education-workshop-webinar-know-your-rights-16107
END:VEVENT

END:VCALENDAR
