BEGIN:VCALENDAR
VERSION:2.0
PRODID:-//ChamberMaster//Event Calendar 2.0//EN
METHOD:PUBLISH
X-PUBLISHED-TTL:P3D
REFRESH-INTERVAL:P3D
CALSCALE:GREGORIAN
BEGIN:VEVENT
DTSTART:20210609T200000Z
DTEND:20210609T213000Z
X-MICROSOFT-CDO-ALLDAYEVENT:FALSE
SUMMARY:Business Education Workshop Webinar: Media Basics For Small Business
DESCRIPTION:Presented by Lilia Chacon\, Journalist\n\n\n\nLilia Chacon is a long-time TV Journalist and Communications expert. She'll have tips for getting coverage for your small business or service. This 1 1/2 hour webinar will include advice on how to be 'newsworthy\,' how to become the go-to person in your area of expertise\, how to manage your image on Zoom meetings and interviews. Question and answer period during the last 1/2 hour to help you get the most from this session.
X-ALT-DESC;FMTTYPE=text/html:<p class="x_MsoNormal" style="margin: 0in 0in 0.0001pt\; box-sizing: border-box\; font-size: 11pt\; font-family: Calibri\, sans-serif\; color: rgb(32\, 31\, 30)\;"><span style="box-sizing: border-box\; color: rgb(33\, 33\, 33)\; font-family: Lora\, Roboto\, -apple-system\, BlinkMacSystemFont\, &quot\;Segoe UI&quot\;\, &quot\;Helvetica Neue&quot\;\, Arial\, &quot\;Noto Sans&quot\;\, sans-serif\, &quot\;Apple Color Emoji&quot\;\, &quot\;Segoe UI Emoji&quot\;\, &quot\;Segoe UI Symbol&quot\;\, &quot\;Noto Color Emoji&quot\;\; font-size: 15px\;"><em>Presented by</em>&nbsp\;</span><em style="box-sizing: border-box\; color: rgb(33\, 33\, 33)\; font-family: Lora\, Roboto\, -apple-system\, BlinkMacSystemFont\, &quot\;Segoe UI&quot\;\, &quot\;Helvetica Neue&quot\;\, Arial\, &quot\;Noto Sans&quot\;\, sans-serif\, &quot\;Apple Color Emoji&quot\;\, &quot\;Segoe UI Emoji&quot\;\, &quot\;Segoe UI Symbol&quot\;\, &quot\;Noto Color Emoji&quot\;\; font-size: 15px\;">Lilia Chacon\, Journalist</em><br style="box-sizing: border-box\; color: rgb(33\, 33\, 33)\; font-family: Lora\, Roboto\, -apple-system\, BlinkMacSystemFont\, &quot\;Segoe UI&quot\;\, &quot\;Helvetica Neue&quot\;\, Arial\, &quot\;Noto Sans&quot\;\, sans-serif\, &quot\;Apple Color Emoji&quot\;\, &quot\;Segoe UI Emoji&quot\;\, &quot\;Segoe UI Symbol&quot\;\, &quot\;Noto Color Emoji&quot\;\; font-size: 15px\;" />\n<br />\n<span style="color: rgb(33\, 33\, 33)\; font-family: Lora\, Roboto\, -apple-system\, BlinkMacSystemFont\, &quot\;Segoe UI&quot\;\, &quot\;Helvetica Neue&quot\;\, Arial\, &quot\;Noto Sans&quot\;\, sans-serif\, &quot\;Apple Color Emoji&quot\;\, &quot\;Segoe UI Emoji&quot\;\, &quot\;Segoe UI Symbol&quot\;\, &quot\;Noto Color Emoji&quot\;\; font-size: 15px\;">Lilia Chacon is a long-time TV Journalist and Communications expert. She&rsquo\;ll have tips for getting coverage for your small business or service. This 1 1/2 hour webinar will include advice on how to be &lsquo\;newsworthy\,&rsquo\; how to become the go-to person in your area of expertise\, how to manage your image on Zoom meetings and interviews. Question and answer period during the last 1/2 hour to help you get the most from this session.</span></p>\n
LOCATION:Virtual Webinar
UID:e.1775.16285
SEQUENCE:3
DTSTAMP:20260421T044902Z
URL:https://business.northcenterchamber.com/events/details/business-education-workshop-webinar-media-basics-for-small-business-16285
END:VEVENT

END:VCALENDAR
