BEGIN:VCALENDAR
VERSION:2.0
PRODID:-//ChamberMaster//Event Calendar 2.0//EN
METHOD:PUBLISH
X-PUBLISHED-TTL:P3D
REFRESH-INTERVAL:P3D
CALSCALE:GREGORIAN
BEGIN:VEVENT
DTSTART:20220401T143000Z
DTEND:20220401T153000Z
X-MICROSOFT-CDO-ALLDAYEVENT:FALSE
SUMMARY:Business Education Workshop Webinar - Protecting your company's trademark \, patents\, Trade Secrets and copyrights.
DESCRIPTION:Recognizing and Protecting Your Company's Trademarks\, Patents\, Trade Secrets\, and Copyrights\n\n \n\nPresented by Patrick J. Smith\, Partner\, registered patent attorney at Greer\, Burns & Crain\, Ltd.\n\n \n\n Learn the basic differences between copyrights\, trademarks\, patents\, and trade secrets and the assets they protect. Knowing the differences will help you to take the right steps and make the right decisions to protect your company's intellectual property assets.\n\n \n\nRegister by visiting Chicago.gov/BusinessEducation
X-ALT-DESC;FMTTYPE=text/html:<div style="color: rgb(64\, 63\, 66)\; font-family: Arial\, Verdana\, Helvetica\, sans-serif\; font-size: 12px\; background-color: rgb(255\, 255\, 255)\;"><strong><span style="font-size:18px\;"><span style="color: rgb(0\, 0\, 0)\;">Recognizing and Protecting Your Company&rsquo\;s Trademarks\, Patents\, Trade Secrets\, and Copyrights</span></span></strong></div>\n\n<div style="color: rgb(64\, 63\, 66)\; font-family: Arial\, Verdana\, Helvetica\, sans-serif\; font-size: 12px\; background-color: rgb(255\, 255\, 255)\;">&nbsp\;</div>\n\n<div style="color: rgb(64\, 63\, 66)\; font-family: Arial\, Verdana\, Helvetica\, sans-serif\; font-size: 12px\; background-color: rgb(255\, 255\, 255)\;"><span style="font-size: 14px\; color: rgb(0\, 0\, 0)\;">Presented by Patrick J. Smith\, Partner\, registered patent attorney at Greer\, Burns &amp\; Crain\, Ltd.</span></div>\n\n<div style="color: rgb(64\, 63\, 66)\; font-family: Arial\, Verdana\, Helvetica\, sans-serif\; font-size: 12px\; background-color: rgb(255\, 255\, 255)\;">&nbsp\;</div>\n\n<div style="color: rgb(64\, 63\, 66)\; font-family: Arial\, Verdana\, Helvetica\, sans-serif\; font-size: 12px\; background-color: rgb(255\, 255\, 255)\;"><span style="font-size: 14px\; color: rgb(0\, 0\, 0)\;">&#65279\;Learn the basic differences between copyrights\, trademarks\, patents\, and trade secrets and the assets they protect. Knowing the differences will help you to take the right steps and make the right decisions to protect your company&rsquo\;s intellectual property assets.</span></div>\n\n<div style="color: rgb(64\, 63\, 66)\; font-family: Arial\, Verdana\, Helvetica\, sans-serif\; font-size: 12px\; background-color: rgb(255\, 255\, 255)\;">&nbsp\;</div>\n\n<div style="color: rgb(64\, 63\, 66)\; font-family: Arial\, Verdana\, Helvetica\, sans-serif\; font-size: 12px\; background-color: rgb(255\, 255\, 255)\;"><span style="font-size: 14px\; color: rgb(0\, 0\, 0)\;">Register by visiting&nbsp\;</span><a data-saferedirecturl="https://www.google.com/url?q=https://r20.rs6.net/tn.jsp?f%3D0014LWsTzJTEsur_f4GLZ2x-emRamzfdGJljOpwbWOL8rTM7g9su8KlajuVx3XAr8GKQB-pxzNQqUpVGpA5slFvaIFx5yPfvwzQtIUb2PiKbMKnpIofBv-ZUbtU6iTTarl2zNAgHq2GXDG8JMKD8CbbTkeZ6eltU-78yrYGpEd9pac%3D%26c%3DnQrkzA0X_YrzZ1-be1LxxsbLtcbGd_tQAPuYTQ-IhKU5fQA8lkoY6A%3D%3D%26ch%3DD6U6oIU2Miyk151qi0FKZDsIqfi-aDid3LvOTRPR3nyNd7uIjW9pIQ%3D%3D&amp\;source=gmail&amp\;ust=1648670875669000&amp\;usg=AOvVaw0zPR5BfgXQOxwAgNwjYHo6" href="https://r20.rs6.net/tn.jsp?f=0014LWsTzJTEsur_f4GLZ2x-emRamzfdGJljOpwbWOL8rTM7g9su8KlajuVx3XAr8GKQB-pxzNQqUpVGpA5slFvaIFx5yPfvwzQtIUb2PiKbMKnpIofBv-ZUbtU6iTTarl2zNAgHq2GXDG8JMKD8CbbTkeZ6eltU-78yrYGpEd9pac=&amp\;c=nQrkzA0X_YrzZ1-be1LxxsbLtcbGd_tQAPuYTQ-IhKU5fQA8lkoY6A==&amp\;ch=D6U6oIU2Miyk151qi0FKZDsIqfi-aDid3LvOTRPR3nyNd7uIjW9pIQ==" rel="noopener noreferrer" style="color: rgb(0\, 0\, 255)\; font-size: 14px\; font-weight: bold\;" target="_blank">Chicago.gov/BusinessEducation</a></div>\n
LOCATION:Webinar Register here
UID:e.1775.16972
SEQUENCE:3
DTSTAMP:20260420T121606Z
URL:https://business.northcenterchamber.com/events/details/business-education-workshop-webinar-protecting-your-company-s-trademark-patents-trade-secrets-and-copyrights-16972
END:VEVENT

END:VCALENDAR
