BEGIN:VCALENDAR
VERSION:2.0
PRODID:-//ChamberMaster//Event Calendar 2.0//EN
METHOD:PUBLISH
X-PUBLISHED-TTL:P3D
REFRESH-INTERVAL:P3D
CALSCALE:GREGORIAN
BEGIN:VEVENT
DTSTART:20210319T143000Z
DTEND:20210319T160000Z
X-MICROSOFT-CDO-ALLDAYEVENT:FALSE
SUMMARY:Business Education Workshop Webinar: Recognizing and Protecting Your Company’s Trademarks\, Patents\, Trade Secrets\, and Copyrights
DESCRIPTION:Presented by Patrick J. Smith\, Partner\, registered patent attorney at Greer\, Burns & Crain\, Ltd.\n\n\n\nLearn the basic differences between copyrights\, trademarks\, patents\, and trade secrets and the assets they protect. Knowing the differences will help you to take the right steps and make the right decisions to protect your company's intellectual property assets.
X-ALT-DESC;FMTTYPE=text/html:<p class="x_MsoNormal" style="margin: 0in 0in 0.0001pt\; box-sizing: border-box\; font-size: 11pt\; font-family: Calibri\, sans-serif\; color: rgb(32\, 31\, 30)\;"><em style="box-sizing: border-box\; color: rgb(33\, 33\, 33)\; font-family: Lora\, Roboto\, -apple-system\, BlinkMacSystemFont\, &quot\;Segoe UI&quot\;\, &quot\;Helvetica Neue&quot\;\, Arial\, &quot\;Noto Sans&quot\;\, sans-serif\, &quot\;Apple Color Emoji&quot\;\, &quot\;Segoe UI Emoji&quot\;\, &quot\;Segoe UI Symbol&quot\;\, &quot\;Noto Color Emoji&quot\;\; font-size: 15px\;">Presented by&nbsp\;Patrick J. Smith\, Partner\, registered patent attorney at Greer\, Burns &amp\; Crain\, Ltd.</em><br />\n<br />\n<span style="color: rgb(33\, 33\, 33)\; font-family: Lora\, Roboto\, -apple-system\, BlinkMacSystemFont\, &quot\;Segoe UI&quot\;\, &quot\;Helvetica Neue&quot\;\, Arial\, &quot\;Noto Sans&quot\;\, sans-serif\, &quot\;Apple Color Emoji&quot\;\, &quot\;Segoe UI Emoji&quot\;\, &quot\;Segoe UI Symbol&quot\;\, &quot\;Noto Color Emoji&quot\;\; font-size: 15px\;">Learn the basic differences between copyrights\, trademarks\, patents\, and trade secrets and the assets they protect. Knowing the differences will help you to take the right steps and make the right decisions to protect your company&rsquo\;s intellectual property assets.</span></p>\n
LOCATION:Virtual Webinar
UID:e.1775.16076
SEQUENCE:3
DTSTAMP:20260421T115647Z
URL:https://business.northcenterchamber.com/events/details/business-education-workshop-webinar-recognizing-and-protecting-your-company-s-trademarks-patents-trade-secrets-and-copyrights-16076
END:VEVENT

END:VCALENDAR
