BEGIN:VCALENDAR
VERSION:2.0
PRODID:-//ChamberMaster//Event Calendar 2.0//EN
METHOD:PUBLISH
X-PUBLISHED-TTL:P3D
REFRESH-INTERVAL:P3D
CALSCALE:GREGORIAN
BEGIN:VEVENT
DTSTART:20210421T200000Z
DTEND:20210421T213000Z
X-MICROSOFT-CDO-ALLDAYEVENT:FALSE
SUMMARY:Business Education Workshop Webinar: SBA update: Recovery Programs for Entrepreneurs
DESCRIPTION:Presented by the Small Business Administration (SBA) Illinois District Office\n\n\n\nJoin presenters from the U.S. Small Business Administration for an overview of small business relief programs and learn how you can access immediate relief for your entrepreneurial needs. The presenters will discuss the Paycheck Protection Program\, the Economic Injury Disaster Loan program\, the Shuttered Venue Operators Grant\, and other relief options for small businesses. Bring your questions! There will be time for Q&A.
X-ALT-DESC;FMTTYPE=text/html:<p class="x_MsoNormal" style="margin: 0in 0in 0.0001pt\; box-sizing: border-box\; font-size: 11pt\; font-family: Calibri\, sans-serif\; color: rgb(32\, 31\, 30)\;"><span style="font-size:14px\;"><em style="box-sizing: border-box\; color: rgb(33\, 33\, 33)\; font-family: Lora\, Roboto\, -apple-system\, BlinkMacSystemFont\, &quot\;Segoe UI&quot\;\, &quot\;Helvetica Neue&quot\;\, Arial\, &quot\;Noto Sans&quot\;\, sans-serif\, &quot\;Apple Color Emoji&quot\;\, &quot\;Segoe UI Emoji&quot\;\, &quot\;Segoe UI Symbol&quot\;\, &quot\;Noto Color Emoji&quot\;\; font-size: 15px\;">Presented by&nbsp\;</em></span><em style="box-sizing: border-box\; color: rgb(33\, 33\, 33)\; font-family: Lora\, Roboto\, -apple-system\, BlinkMacSystemFont\, &quot\;Segoe UI&quot\;\, &quot\;Helvetica Neue&quot\;\, Arial\, &quot\;Noto Sans&quot\;\, sans-serif\, &quot\;Apple Color Emoji&quot\;\, &quot\;Segoe UI Emoji&quot\;\, &quot\;Segoe UI Symbol&quot\;\, &quot\;Noto Color Emoji&quot\;\; font-size: 15px\;">the Small Business Administration (SBA) Illinois District Office</em><br />\n<br />\n<span style="color: rgb(33\, 33\, 33)\; font-family: Lora\, Roboto\, -apple-system\, BlinkMacSystemFont\, &quot\;Segoe UI&quot\;\, &quot\;Helvetica Neue&quot\;\, Arial\, &quot\;Noto Sans&quot\;\, sans-serif\, &quot\;Apple Color Emoji&quot\;\, &quot\;Segoe UI Emoji&quot\;\, &quot\;Segoe UI Symbol&quot\;\, &quot\;Noto Color Emoji&quot\;\; font-size: 15px\;">Join presenters from the U.S. Small Business Administration for an overview of small business relief programs and learn how you can access immediate relief for your entrepreneurial needs. The presenters will discuss the Paycheck Protection Program\, the Economic Injury Disaster Loan program\, the Shuttered Venue Operators Grant\, and other relief options for small businesses. Bring your questions! There will be time for Q&amp\;A.</span></p>\n
LOCATION:Virtual Webinar
UID:e.1775.16106
SEQUENCE:3
DTSTAMP:20260423T083048Z
URL:https://business.northcenterchamber.com/events/details/business-education-workshop-webinar-sba-update-recovery-programs-for-entrepreneurs-16106
END:VEVENT

END:VCALENDAR
