BEGIN:VCALENDAR
VERSION:2.0
PRODID:-//ChamberMaster//Event Calendar 2.0//EN
METHOD:PUBLISH
X-PUBLISHED-TTL:P3D
REFRESH-INTERVAL:P3D
CALSCALE:GREGORIAN
BEGIN:VEVENT
DTSTART:20220330T200000Z
DTEND:20220330T210000Z
X-MICROSOFT-CDO-ALLDAYEVENT:FALSE
SUMMARY:Business Education Workshop Webinar - Small Business Marketing
DESCRIPTION:Small Business Marketing:\n\nWhat To Know\, How to Start & What to Expect\n\n \n\nPresented by Score Chicago\n\n \n\n Learn about the fundamentals of marketing\, why small business need marketing\, how small business can start marketing and what results you can expect.
X-ALT-DESC;FMTTYPE=text/html:<div style="color: rgb(64\, 63\, 66)\; font-family: Arial\, Verdana\, Helvetica\, sans-serif\; font-size: 12px\; background-color: rgb(255\, 255\, 255)\;"><span style="font-size:18px\;"><strong><span style="color: rgb(0\, 0\, 0)\;">Small Business Marketing:<br />\nWhat To Know\, How to Start &amp\; What to Expect</span></strong></span></div>\n\n<div style="color: rgb(64\, 63\, 66)\; font-family: Arial\, Verdana\, Helvetica\, sans-serif\; font-size: 12px\; background-color: rgb(255\, 255\, 255)\;">&nbsp\;</div>\n\n<div style="color: rgb(64\, 63\, 66)\; font-family: Arial\, Verdana\, Helvetica\, sans-serif\; font-size: 12px\; background-color: rgb(255\, 255\, 255)\;"><span style="font-size: 14px\; color: rgb(0\, 0\, 0)\;">Presented by Score Chicago</span></div>\n\n<div style="color: rgb(64\, 63\, 66)\; font-family: Arial\, Verdana\, Helvetica\, sans-serif\; font-size: 12px\; background-color: rgb(255\, 255\, 255)\;">&nbsp\;</div>\n\n<div style="color: rgb(64\, 63\, 66)\; font-family: Arial\, Verdana\, Helvetica\, sans-serif\; font-size: 12px\; background-color: rgb(255\, 255\, 255)\;"><span style="font-size: 14px\; color: rgb(0\, 0\, 0)\;">&#65279\;Learn about the fundamentals of marketing\, why small business need marketing\, how small business can start marketing and what results you can expect.</span></div>\n
LOCATION:Webinar
UID:e.1775.16971
SEQUENCE:3
DTSTAMP:20260420T152536Z
URL:https://business.northcenterchamber.com/events/details/business-education-workshop-webinar-small-business-marketing-16971
END:VEVENT

END:VCALENDAR
