BEGIN:VCALENDAR
VERSION:2.0
PRODID:-//ChamberMaster//Event Calendar 2.0//EN
METHOD:PUBLISH
X-PUBLISHED-TTL:P3D
REFRESH-INTERVAL:P3D
CALSCALE:GREGORIAN
BEGIN:VEVENT
DTSTART:20210120T210000Z
DTEND:20210120T220000Z
X-MICROSOFT-CDO-ALLDAYEVENT:FALSE
SUMMARY:Business Education Workshop Webinar: Tekies Toolbox - How to Sell on Facebook
DESCRIPTION:Presented by Tekies\n\n\n\nLearn to strategically use digital tools to grow your business. Tekies will lead a Virtual Demo\, where we will create and launch a campaign so you can learn step-by-step how to set up Facebook Ads.
X-ALT-DESC;FMTTYPE=text/html:<span style="font-size:14px\;"><span style="font-family:arial\;"><em style="color: rgb(32\, 31\, 30)\; font-family: arial\; font-size: 14px\;">Presented by </em><em style="box-sizing: border-box\; color: rgb(33\, 33\, 33)\; font-family: Lora\, Roboto\, -apple-system\, BlinkMacSystemFont\, &quot\;Segoe UI&quot\;\, &quot\;Helvetica Neue&quot\;\, Arial\, &quot\;Noto Sans&quot\;\, sans-serif\, &quot\;Apple Color Emoji&quot\;\, &quot\;Segoe UI Emoji&quot\;\, &quot\;Segoe UI Symbol&quot\;\, &quot\;Noto Color Emoji&quot\;\; font-size: 15px\;">Tekies</em><br />\n<br style="box-sizing: border-box\;" />\n<span style="color: rgb(33\, 33\, 33)\;">Learn to strategically use digital tools to grow your business. Tekies will lead a Virtual Demo\, where we will create and launch a campaign so you can learn step-by-step how to set up Facebook Ads.</span></span></span>
LOCATION:Virtual Webinar
UID:e.1775.16049
SEQUENCE:3
DTSTAMP:20260425T141101Z
URL:https://business.northcenterchamber.com/events/details/business-education-workshop-webinar-tekies-toolbox-how-to-sell-on-facebook-16049
END:VEVENT

END:VCALENDAR
