BEGIN:VCALENDAR
VERSION:2.0
PRODID:-//ChamberMaster//Event Calendar 2.0//EN
METHOD:PUBLISH
X-PUBLISHED-TTL:P3D
REFRESH-INTERVAL:P3D
CALSCALE:GREGORIAN
BEGIN:VEVENT
DTSTART:20210423T143000Z
DTEND:20210423T160000Z
X-MICROSOFT-CDO-ALLDAYEVENT:FALSE
SUMMARY:Business Education Workshop Webinar: To Thine Own Self Be True\; Discovering the Value in Your Personal Brand
DESCRIPTION:Presented by Nina Abnee\, Professional Lecture and Advertising Professional in Residence at DePaul University\; a certified Leadership Coach\; and former advertising executive\n\n\n\nNina Abnee is a Professional Lecture and Advertising Professional in Residence at DePaul University\; a certified Leadership Coach\; and former advertising executive. She has combined her expertise in crafting brand strategies with her training as a professional coach to help people discover their own authentic brand and create momentum for their lives and businesses.
X-ALT-DESC;FMTTYPE=text/html:<p class="x_MsoNormal" style="margin: 0in 0in 0.0001pt\; box-sizing: border-box\; font-size: 11pt\; font-family: Calibri\, sans-serif\; color: rgb(32\, 31\, 30)\;"><em style="box-sizing: border-box\; color: rgb(33\, 33\, 33)\; font-family: Lora\, Roboto\, -apple-system\, BlinkMacSystemFont\, &quot\;Segoe UI&quot\;\, &quot\;Helvetica Neue&quot\;\, Arial\, &quot\;Noto Sans&quot\;\, sans-serif\, &quot\;Apple Color Emoji&quot\;\, &quot\;Segoe UI Emoji&quot\;\, &quot\;Segoe UI Symbol&quot\;\, &quot\;Noto Color Emoji&quot\;\; font-size: 15px\;">Presented by&nbsp\;Nina Abnee\, Professional Lecture and Advertising Professional in Residence at DePaul University\; a certified Leadership Coach\; and former advertising executive</em><br />\n<br />\n<span style="color: rgb(33\, 33\, 33)\; font-family: Lora\, Roboto\, -apple-system\, BlinkMacSystemFont\, &quot\;Segoe UI&quot\;\, &quot\;Helvetica Neue&quot\;\, Arial\, &quot\;Noto Sans&quot\;\, sans-serif\, &quot\;Apple Color Emoji&quot\;\, &quot\;Segoe UI Emoji&quot\;\, &quot\;Segoe UI Symbol&quot\;\, &quot\;Noto Color Emoji&quot\;\; font-size: 15px\;">Nina Abnee is a Professional Lecture and Advertising Professional in Residence at DePaul University\; a certified Leadership Coach\; and former advertising executive. She has combined her expertise in crafting brand strategies with her training as a professional coach to help people discover their own authentic brand and create momentum for their lives and businesses.</span></p>\n
LOCATION:Virtual Webinar
UID:e.1775.16109
SEQUENCE:3
DTSTAMP:20260423T085231Z
URL:https://business.northcenterchamber.com/events/details/business-education-workshop-webinar-to-thine-own-self-be-true-discovering-the-value-in-your-personal-brand-16109
END:VEVENT

END:VCALENDAR
