BEGIN:VCALENDAR
VERSION:2.0
PRODID:-//ChamberMaster//Event Calendar 2.0//EN
METHOD:PUBLISH
X-PUBLISHED-TTL:P3D
REFRESH-INTERVAL:P3D
CALSCALE:GREGORIAN
BEGIN:VEVENT
DTSTART:20210127T210000Z
DTEND:20210127T220000Z
X-MICROSOFT-CDO-ALLDAYEVENT:FALSE
SUMMARY:Business Education Workshop Webinar: Transform Your Dream Into a Real Startup
DESCRIPTION:Presented by Score Chicago\n\n\n\nDo you have what it takes to start and run a successful business? If so\, do you know what the start-up journey is like? Or what initial steps you need to take? \n\n\n\nThis webinar will help you assess your prospects\, give you the initial direction you need\, and inspire you to move forward to realize your dream. The webinar will also cover pricing\, promotion\, competition and marketing to give you a competitive edge.
X-ALT-DESC;FMTTYPE=text/html:<em style="box-sizing: border-box\; color: rgb(33\, 33\, 33)\; font-family: Lora\, Roboto\, -apple-system\, BlinkMacSystemFont\, &quot\;Segoe UI&quot\;\, &quot\;Helvetica Neue&quot\;\, Arial\, &quot\;Noto Sans&quot\;\, sans-serif\, &quot\;Apple Color Emoji&quot\;\, &quot\;Segoe UI Emoji&quot\;\, &quot\;Segoe UI Symbol&quot\;\, &quot\;Noto Color Emoji&quot\;\; font-size: 15px\;">Presented by Score Chicago</em><br />\n<br style="box-sizing: border-box\;" />\n<span style="color: rgb(33\, 33\, 33)\; font-family: Lora\, Roboto\, -apple-system\, BlinkMacSystemFont\, &quot\;Segoe UI&quot\;\, &quot\;Helvetica Neue&quot\;\, Arial\, &quot\;Noto Sans&quot\;\, sans-serif\, &quot\;Apple Color Emoji&quot\;\, &quot\;Segoe UI Emoji&quot\;\, &quot\;Segoe UI Symbol&quot\;\, &quot\;Noto Color Emoji&quot\;\; font-size: 15px\;">Do you have what it takes to start and run a successful business? If so\, do you know what the start-up journey is like? Or what initial steps you need to take?&nbsp\;<br />\n<br />\nThis webinar will help you assess your prospects\, give you the initial direction you need\, and inspire you to move forward to realize your dream. The webinar will also cover pricing\, promotion\, competition and marketing to give you a competitive edge.</span>
LOCATION:Virtual Webinar
UID:e.1775.16051
SEQUENCE:3
DTSTAMP:20260425T140906Z
URL:https://business.northcenterchamber.com/events/details/business-education-workshop-webinar-transform-your-dream-into-a-real-startup-16051
END:VEVENT

END:VCALENDAR
