BEGIN:VCALENDAR
VERSION:2.0
PRODID:-//ChamberMaster//Event Calendar 2.0//EN
METHOD:PUBLISH
X-PUBLISHED-TTL:P3D
REFRESH-INTERVAL:P3D
CALSCALE:GREGORIAN
BEGIN:VEVENT
DTSTART:20210310T210000Z
DTEND:20210310T223000Z
X-MICROSOFT-CDO-ALLDAYEVENT:FALSE
SUMMARY:Business Education Workshop Webinar: What You Need to Know About Your Business & Taxes
DESCRIPTION:Presented by the Internal Revenue Service (IRS) and Ladder Up\n\n\n\nThis workshop will answer important tax questions for your business including: Are you required to file a tax return? Is your worker an independent contractor or an employee? What will the IRS request during an audit? Are you required to make estimated tax payments? What resources does the IRS have for small business owners?
X-ALT-DESC;FMTTYPE=text/html:<p class="x_MsoNormal" style="margin: 0in 0in 0.0001pt\; box-sizing: border-box\; font-size: 11pt\; font-family: Calibri\, sans-serif\; color: rgb(32\, 31\, 30)\;"><em style="box-sizing: border-box\; color: rgb(33\, 33\, 33)\; font-family: Lora\, Roboto\, -apple-system\, BlinkMacSystemFont\, &quot\;Segoe UI&quot\;\, &quot\;Helvetica Neue&quot\;\, Arial\, &quot\;Noto Sans&quot\;\, sans-serif\, &quot\;Apple Color Emoji&quot\;\, &quot\;Segoe UI Emoji&quot\;\, &quot\;Segoe UI Symbol&quot\;\, &quot\;Noto Color Emoji&quot\;\; font-size: 15px\;">Presented by&nbsp\;the Internal Revenue Service (IRS) and Ladder Up</em><br />\n<br />\n<span style="color: rgb(33\, 33\, 33)\; font-family: Lora\, Roboto\, -apple-system\, BlinkMacSystemFont\, &quot\;Segoe UI&quot\;\, &quot\;Helvetica Neue&quot\;\, Arial\, &quot\;Noto Sans&quot\;\, sans-serif\, &quot\;Apple Color Emoji&quot\;\, &quot\;Segoe UI Emoji&quot\;\, &quot\;Segoe UI Symbol&quot\;\, &quot\;Noto Color Emoji&quot\;\; font-size: 15px\;">This workshop will answer important tax questions for your business including: Are you required to file a tax return? Is your worker an independent contractor or an employee? What will the IRS request during an audit? Are you required to make estimated tax payments? What resources does the IRS have for small business owners?</span></p>\n
LOCATION:Virtual Webinar
UID:e.1775.16074
SEQUENCE:3
DTSTAMP:20260421T115727Z
URL:https://business.northcenterchamber.com/events/details/business-education-workshop-webinar-what-you-need-to-know-about-your-business-taxes-16074
END:VEVENT

END:VCALENDAR
