BEGIN:VCALENDAR
VERSION:2.0
PRODID:-//ChamberMaster//Event Calendar 2.0//EN
METHOD:PUBLISH
X-PUBLISHED-TTL:P3D
REFRESH-INTERVAL:P3D
CALSCALE:GREGORIAN
BEGIN:VEVENT
DTSTART:20210318T180000Z
DTEND:20210318T193000Z
X-MICROSOFT-CDO-ALLDAYEVENT:FALSE
SUMMARY:Business Webinar: The 2021 Expanded Outdoor Dining Program
DESCRIPTION:Presented by the Dept. of Business Affairs\n\n \n\nLast year\, the City of Chicago established the Expanded Outdoor Dining Program as an emergency support measure to allow bars and restaurants to operate outdoors safely in the public way or private property. All bars and restaurants interested in participating in 2021 should join this webinar to learn how to apply for a new Expanded Outdoor Dining Permit or extend their current permit.
X-ALT-DESC;FMTTYPE=text/html:<p class="x_MsoNormal" style="margin: 0in 0in 0.0001pt\; box-sizing: border-box\; font-size: 11pt\; font-family: Calibri\, sans-serif\; color: rgb(32\, 31\, 30)\;"><span style="font-size:14px\;"><span style="font-family:arial\;"><em style="box-sizing: border-box\; color: rgb(33\, 33\, 33)\; font-family: Lora\, Roboto\, -apple-system\, BlinkMacSystemFont\, &quot\;Segoe UI&quot\;\, &quot\;Helvetica Neue&quot\;\, Arial\, &quot\;Noto Sans&quot\;\, sans-serif\, &quot\;Apple Color Emoji&quot\;\, &quot\;Segoe UI Emoji&quot\;\, &quot\;Segoe UI Symbol&quot\;\, &quot\;Noto Color Emoji&quot\;\; font-size: 15px\;">Presented by t</em><span style="color: rgb(64\, 63\, 66)\; font-style: italic\; background-color: rgb(255\, 255\, 255)\;">he Dept. of Business Affairs</span></span></span></p>\n\n<div>&nbsp\;</div>\n\n<p class="x_MsoNormal" style="margin: 0in 0in 0.0001pt\; box-sizing: border-box\; font-size: 11pt\; font-family: Calibri\, sans-serif\; color: rgb(32\, 31\, 30)\;"><span style="color: rgb(33\, 33\, 33)\; font-family: Lora\, Roboto\, -apple-system\, BlinkMacSystemFont\, &quot\;Segoe UI&quot\;\, &quot\;Helvetica Neue&quot\;\, Arial\, &quot\;Noto Sans&quot\;\, sans-serif\, &quot\;Apple Color Emoji&quot\;\, &quot\;Segoe UI Emoji&quot\;\, &quot\;Segoe UI Symbol&quot\;\, &quot\;Noto Color Emoji&quot\;\; font-size: 15px\;">Last year\, the City of Chicago established the Expanded Outdoor Dining Program as an emergency support measure to allow bars and restaurants to operate outdoors safely in the public way or private property. All bars and restaurants interested in participating in 2021 should join this webinar to learn how to apply for a new Expanded Outdoor Dining Permit or extend their current permit.</span></p>\n
LOCATION:Virtual Webinar
UID:e.1775.16100
SEQUENCE:3
DTSTAMP:20260421T115038Z
URL:https://business.northcenterchamber.com/events/details/business-webinar-the-2021-expanded-outdoor-dining-program-16100
END:VEVENT

END:VCALENDAR
