BEGIN:VCALENDAR
VERSION:2.0
PRODID:-//ChamberMaster//Event Calendar 2.0//EN
METHOD:PUBLISH
X-PUBLISHED-TTL:P3D
REFRESH-INTERVAL:P3D
CALSCALE:GREGORIAN
BEGIN:VEVENT
DTSTART:20220325T173000Z
DTEND:20220325T193000Z
X-MICROSOFT-CDO-ALLDAYEVENT:FALSE
SUMMARY:Centered Therapy - Therapist Self-Care Series
DESCRIPTION:Therapist Self-Care Series\n\nIDENTIFY and PREVENT Vicarious Trauma and Burnout\n\nCentered Therapy Chicago is hosting a Therapist Self-Care Series! If you are a licensed therapist or psychologist who is interested in CEU credits\, we may have the right seminar for you. \n\n\n\nOur series kicks off on Friday\, March 25\, as Dr. Bianka Hardin\, Psy.D hosts a seminar called Identifying and Preventing Vicarious Trauma and Burnout.\n\n\n\nIn this course you will learn to identify the warning signs of vicarious trauma and burnout. You will also understand how daily practices of Trauma Stewardship and self-care can mitigate the impact of vicarious trauma to avoid burnout.\n\n\n\nThe cost is $59 and it takes place from 12:30-2:00pm\, via Zoom. Register here.
X-ALT-DESC;FMTTYPE=text/html:<strong>Therapist Self-Care Series<br />\nIDENTIFY and PREVENT Vicarious Trauma and Burnout</strong><br />\n<span style="font-size:16px\;"><strong style="color: rgb(34\, 34\, 34)\; font-family: Roboto\, RobotoDraft\, Helvetica\, Arial\, sans-serif\; font-size: small\; background-color: rgb(255\, 255\, 255)\;"><span style="line-height: 27px\; font-family: Helvetica\, sans-serif\; color: rgb(64\, 64\, 64)\;">Centered Therapy Chicago is hosting a Therapist Self-Care Series!&nbsp\;</span></strong><span style="background-color: rgb(255\, 255\, 255)\; line-height: 27px\; font-family: Helvetica\, sans-serif\; color: rgb(64\, 64\, 64)\;">If </span></span><span style="background-color: rgb(255\, 255\, 255)\; line-height: 27px\; font-family: Helvetica\, sans-serif\; color: rgb(64\, 64\, 64)\;">you are a licensed therapist or psychologist who is interested in CEU credits\, we may have the right seminar for you.&nbsp\;<br />\n<br />\nOur series kicks off on Friday\, March 25\, as Dr. Bianka Hardin\, Psy.D hosts a seminar called&nbsp\;<em>Identifying and Preventing Vicarious Trauma and Burnout</em>.</span><br />\n<br />\n<span style="background-color: rgb(255\, 255\, 255)\; line-height: 27px\; font-family: Helvetica\, sans-serif\; color: rgb(64\, 64\, 64)\;">In this course you will learn to identify the warning signs of vicarious trauma and burnout. You will also understand how daily practices of Trauma Stewardship and self-care can mitigate the impact of vicarious trauma to avoid burnout.</span><br />\n<br />\n<span style="background-color: rgb(255\, 255\, 255)\; line-height: 27px\; font-family: Helvetica\, sans-serif\; color: rgb(64\, 64\, 64)\;">The cost is $59 and it takes place from 12:30-2:00pm\, via Zoom. Register&nbsp\;<u><a data-saferedirecturl="https://www.google.com/url?q=https://centeredtherapychicago.us9.list-manage.com/track/click?u%3Dbf0bfaa9631fe33d01c650f30%26id%3D49580c31ae%26e%3D924eb9eeab&amp\;source=gmail&amp\;ust=1647015649632000&amp\;usg=AOvVaw2hdWJ_0Y0Xy5u7jLN3DnY2" href="https://www.ctctrainingcenter.com/courses/vicarioustrauma" style="color: rgb(17\, 85\, 204)\;" target="_blank"><span style="color: darkgreen\;">here</span></a></u>.&nbsp\;</span>
LOCATION:Via Zoom
UID:e.1775.16850
SEQUENCE:3
DTSTAMP:20260420T151946Z
URL:https://business.northcenterchamber.com/events/details/centered-therapy-therapist-self-care-series-16850
END:VEVENT

END:VCALENDAR
