BEGIN:VCALENDAR
VERSION:2.0
PRODID:-//ChamberMaster//Event Calendar 2.0//EN
METHOD:PUBLISH
X-PUBLISHED-TTL:P3D
REFRESH-INTERVAL:P3D
CALSCALE:GREGORIAN
BEGIN:VEVENT
DTSTART;VALUE=DATE:20200911
DTEND;VALUE=DATE:20201011
TRANSP:TRANSPARENT
X-MICROSOFT-CDO-ALLDAYEVENT:TRUE
SUMMARY:Cheers To Northcenter: Order Your Variety Pack
DESCRIPTION:Step 1: Order a curated variety pack of delicious craft beer from our friends at Bottles & Cans. \n\nStep 2: Support the Northcenter Chamber's community programming!\n\nStep 3: Toast to yourself! You did good. \n\n\n\nIt's that simple. The Chamber has partnered with Bottles & Cans for a variety pack fundraiser. With necessary health and safety precautions interrupting our usual summer event schedule\, the Chamber is asking for the support of our neighbors as we work to provide community programming like our amazing Farmers Market\, as well as support and resources to our business community at a critical time\, by ordering one of these awesome variety craft beer packs! \n\n\n\nChoose from the following six-packs:\n\n	Crushable (drinkable lagers\, pilsners or easy-drinking wheat beers)\n	Hoppy (Pale Ales\, IPAs\, etc.)\n	Fall Beers (Pumpkin ales\, Oktoberfests\, etc.) (LIMITED QUANTITY AVAILABLE)\n\nPickup available Sunday\, October 11th & Monday\, October 12th. Bottles & Cans is open 11 a.m. - 9 p.m. Monday-Saturday and 11 a.m. - 7 p.m. Sunday.
X-ALT-DESC;FMTTYPE=text/html:Step 1: Order a curated variety pack of delicious craft beer from our friends at Bottles &amp\; Cans.&nbsp\;<br />\nStep 2: Support the Northcenter Chamber&#39\;s community programming!<br />\nStep 3: Toast to yourself! You did good.&nbsp\;<br />\n<br />\nIt&#39\;s that simple. The Chamber has partnered with Bottles &amp\; Cans for a variety pack fundraiser. With necessary health and safety precautions interrupting our usual summer event schedule\, the Chamber is asking for the support of our neighbors as we work to provide community programming like our amazing Farmers Market\, as well as support and resources to our business community at a critical time\, by ordering one of these awesome variety craft beer packs!&nbsp\;<br />\n<br />\nChoose from the following six-packs:\n<ul>\n	<li>Crushable (drinkable lagers\, pilsners or easy-drinking wheat beers)</li>\n	<li>Hoppy (Pale Ales\, IPAs\, etc.)</li>\n	<li>Fall Beers (Pumpkin ales\, Oktoberfests\, etc.)&nbsp\;<strong>(LIMITED QUANTITY AVAILABLE)</strong></li>\n</ul>\n<strong>Pickup available Sunday\, October 11th &amp\; Monday\, October 12th. Bottles &amp\; Cans is open 11 a.m. - 9 p.m. Monday-Saturday and 11 a.m. - 7 p.m. Sunday.&nbsp\;</strong>
LOCATION:Pick-up at Bottles & Cans 4109 N Lincoln Ave Pickup available Sunday\, October 11th & Monday\, October 12th. Bottles & Cans is open 11 a.m. - 9 p.m. Monday-Saturday and 11 a.m. - 7 p.m. Sunday.
UID:e.1775.16017
SEQUENCE:3
DTSTAMP:20260425T205113Z
URL:https://business.northcenterchamber.com/events/details/cheers-to-northcenter-order-your-variety-pack-16017
END:VEVENT

END:VCALENDAR
