BEGIN:VCALENDAR
VERSION:2.0
PRODID:-//ChamberMaster//Event Calendar 2.0//EN
METHOD:PUBLISH
X-PUBLISHED-TTL:P3D
REFRESH-INTERVAL:P3D
CALSCALE:GREGORIAN
BEGIN:VEVENT
DTSTART:20220311T153000Z
DTEND:20220311T163000Z
X-MICROSOFT-CDO-ALLDAYEVENT:FALSE
SUMMARY:Chicago FREE business education workshops are now available as WEBINARS!
DESCRIPTION:Friday\, 3/11 Webinar at 9:30 AM \n\nFighting Fraud\n\nPresented by the City of Chicago Department of Business Affairs & Consumer Protection (BACP)\n\nWhen it comes to avoiding consumer fraud\, knowledge is power! In this workshop\, businesses and consumers alike will learn about the various types of fraud BACP prosecutes\, how to avoid falling victim to common schemes\, and what you can do to fight back if it happens to you.\n\nIn recognition of National Consumer Protection Week\n\nRegister for the 3/11 Webinar
X-ALT-DESC;FMTTYPE=text/html:<div style="color: rgb(64\, 63\, 66)\; font-family: Arial\, Verdana\, Helvetica\, sans-serif\; font-size: 12px\; background-color: rgb(255\, 255\, 255)\;">\n<div style="box-sizing: border-box\; color: rgb(33\, 33\, 33)\; font-family: Lora\, Roboto\, -apple-system\, BlinkMacSystemFont\, &quot\;Segoe UI&quot\;\, &quot\;Helvetica Neue&quot\;\, Arial\, &quot\;Noto Sans&quot\;\, sans-serif\, &quot\;Apple Color Emoji&quot\;\, &quot\;Segoe UI Emoji&quot\;\, &quot\;Segoe UI Symbol&quot\;\, &quot\;Noto Color Emoji&quot\;\; font-size: 15px\;"><span style="font-size:14px\;"><span style="box-sizing: border-box\; font-weight: bolder\;">Friday\, 3/11 Webinar at 9:30 AM&nbsp\;</span></span></div>\n\n<div style="box-sizing: border-box\; color: rgb(33\, 33\, 33)\; font-family: Lora\, Roboto\, -apple-system\, BlinkMacSystemFont\, &quot\;Segoe UI&quot\;\, &quot\;Helvetica Neue&quot\;\, Arial\, &quot\;Noto Sans&quot\;\, sans-serif\, &quot\;Apple Color Emoji&quot\;\, &quot\;Segoe UI Emoji&quot\;\, &quot\;Segoe UI Symbol&quot\;\, &quot\;Noto Color Emoji&quot\;\; font-size: 15px\;"><span style="font-size:14px\;"><span style="box-sizing: border-box\; text-decoration-line: underline\;">Fighting Fraud</span><br style="box-sizing: border-box\;" />\n<em style="box-sizing: border-box\;">Presented by the City of Chicago Department of Business Affairs &amp\; Consumer Protection (BACP)</em><br style="box-sizing: border-box\;" />\nWhen it comes to avoiding consumer fraud\, knowledge is power! In this workshop\, businesses and consumers alike will learn about the various types of fraud BACP prosecutes\, how to avoid falling victim to common schemes\, and what you can do to fight back if it happens to you.<br style="box-sizing: border-box\;" />\n<span style="box-sizing: border-box\; font-weight: bolder\;">In recognition of National Consumer Protection Week</span></span></div>\n\n<div style="box-sizing: border-box\; color: rgb(33\, 33\, 33)\; font-family: Lora\, Roboto\, -apple-system\, BlinkMacSystemFont\, &quot\;Segoe UI&quot\;\, &quot\;Helvetica Neue&quot\;\, Arial\, &quot\;Noto Sans&quot\;\, sans-serif\, &quot\;Apple Color Emoji&quot\;\, &quot\;Segoe UI Emoji&quot\;\, &quot\;Segoe UI Symbol&quot\;\, &quot\;Noto Color Emoji&quot\;\; font-size: 15px\;"><span style="font-size:14px\;"><span style="box-sizing: border-box\; font-weight: bolder\;"><a href="https://www.chicago.gov/city/en/depts/bacp/provdrs/business_support_tools/svcs/workshopsandwebinars.html" rel="noopener noreferrer" style="box-sizing: border-box\; color: rgb(0\, 117\, 187)\; text-decoration-line: none\; background-color: transparent\;" target="_blank" title="Register for the 3/11 Webinar ">Register for the 3/11 Webinar&nbsp\;</a></span></span></div>\n</div>\n
LOCATION:Friday\, 3/11 Webinar at 9:30 AM
UID:e.1775.16845
SEQUENCE:3
DTSTAMP:20260420T134719Z
URL:https://business.northcenterchamber.com/events/details/chicago-free-business-education-workshops-are-now-available-as-webinars-16845
END:VEVENT

END:VCALENDAR
