BEGIN:VCALENDAR
VERSION:2.0
PRODID:-//ChamberMaster//Event Calendar 2.0//EN
METHOD:PUBLISH
X-PUBLISHED-TTL:P3D
REFRESH-INTERVAL:P3D
CALSCALE:GREGORIAN
BEGIN:VEVENT
DTSTART:20260426T180000Z
DTEND:20260426T230000Z
X-MICROSOFT-CDO-ALLDAYEVENT:FALSE
SUMMARY:CHIRP Radio CD Blowout Sale
DESCRIPTION:Physical media is where it's at! Come stock up at our CD Blowout Sale\, back for 2026 and bigger than ever! \n\n\n\nNot only will we have thousands of CDs\, all priced to move\, we'll also have DJs\, plenty of Begyle beer\, a food truck\, and all around good times.\n\n\n\nThe sale runs from 1-6pm. See you there!
X-ALT-DESC;FMTTYPE=text/html:Physical media is where it&#39\;s at! Come stock up at our CD Blowout Sale\, back for 2026 and bigger than ever!&nbsp\;<br />\n<br />\nNot only will we have thousands of CDs\, all priced to move\, we&#39\;ll also have DJs\, plenty of Begyle beer\, a food truck\, and all around good times.<br />\n<br />\nThe sale runs from 1-6pm. See you there!
LOCATION:Begyle Brewing 1800 W Cuyler
UID:e.1775.21862
SEQUENCE:3
DTSTAMP:20260424T211041Z
URL:https://business.northcenterchamber.com/events/details/chirp-radio-cd-blowout-sale-21862
END:VEVENT

END:VCALENDAR
