BEGIN:VCALENDAR
VERSION:2.0
PRODID:-//ChamberMaster//Event Calendar 2.0//EN
METHOD:PUBLISH
X-PUBLISHED-TTL:P3D
REFRESH-INTERVAL:P3D
CALSCALE:GREGORIAN
BEGIN:VEVENT
DTSTART:20200502T210000Z
DTEND:20200502T220000Z
X-MICROSOFT-CDO-ALLDAYEVENT:FALSE
SUMMARY:Classical Excursions: Lecture #2 – Absinthe\, Syphilis and the Romantics
DESCRIPTION:ACM announces a four-part virtual lecture series on classical music given by our Executive Director Seth Boustead. We're working very hard to pay our musicians for canceled events and to pay our teaching artists for lessons canceled because of Covid-19. All proceeds from this series go to support those efforts. Composers throughout all eras have obsessed over the idea of national identity even\, in the case of Jean Sibelius and Finland\, been instrumental in helping create a national identity through their music. Seth will discuss how composers in the Czech Republic\, United States of America\, Russia\, England\, France\, Poland\, China and Germany have wrestled with or embraced nationalism and how it affected their music.
X-ALT-DESC;FMTTYPE=text/html:ACM announces a four-part virtual lecture series on classical music given by our Executive Director Seth Boustead. We&rsquo\;re working very hard to pay our musicians for canceled events and to pay our teaching artists for lessons canceled because of Covid-19. All proceeds from this series go to support those efforts. Composers throughout all eras have obsessed over the idea of national identity even\, in the case of Jean Sibelius and Finland\, been instrumental in helping create a national identity through their music. Seth will discuss how composers in the Czech Republic\, United States of America\, Russia\, England\, France\, Poland\, China and Germany have wrestled with or embraced nationalism and how it affected their music.
LOCATION:Virtual: Zoom
UID:e.1775.14266
SEQUENCE:3
DTSTAMP:20260426T033848Z
URL:https://business.northcenterchamber.com/events/details/classical-excursions-lecture-2-absinthe-syphilis-and-the-romantics-05-02-2020-14266
END:VEVENT

END:VCALENDAR
