BEGIN:VCALENDAR
VERSION:2.0
PRODID:-//ChamberMaster//Event Calendar 2.0//EN
METHOD:PUBLISH
X-PUBLISHED-TTL:P3D
REFRESH-INTERVAL:P3D
CALSCALE:GREGORIAN
BEGIN:VEVENT
DTSTART:20200509T210000Z
DTEND:20200509T220000Z
X-MICROSOFT-CDO-ALLDAYEVENT:FALSE
SUMMARY:Classical Excursions: Lecture #4 – Stravinsky vs Schönberg
DESCRIPTION:ACM announces a four-part virtual lecture series on classical music given by our Executive Director Seth Boustead. \n\n\n\nWe're working very hard to pay our musicians for canceled events and to pay our teaching artists for lessons canceled because of Covid-19. All proceeds from this series go to support those efforts.\n\n\n\nBefore there were rap battles there was the epic\, well ok maybe not epic but certainly consequential\, showdown between two titans of 20th century music: Igor Stravinsky and Arnold Schoenberg. This lecture will talk about how each composer had a hand in indelibly defining a century of classical music with reverberations continuing today.
X-ALT-DESC;FMTTYPE=text/html:<strong>ACM announces a four-part virtual lecture series on classical music given by our Executive Director Seth Boustead. </strong><br />\n<br />\nWe&rsquo\;re working very hard to pay our musicians for canceled events and to pay our teaching artists for lessons canceled because of Covid-19. All proceeds from this series go to support those efforts.<br />\n<br />\nBefore there were rap battles there was the epic\, well ok maybe not epic but certainly consequential\, showdown between two titans of 20th century music: Igor Stravinsky and Arnold Schoenberg. This lecture will talk about how each composer had a hand in indelibly defining a century of classical music with reverberations continuing today.
LOCATION:Virtual: Zoom
UID:e.1775.14267
SEQUENCE:3
DTSTAMP:20260426T033644Z
URL:https://business.northcenterchamber.com/events/details/classical-excursions-lecture-4-stravinsky-vs-sch&#246;nberg-14267
END:VEVENT

END:VCALENDAR
