BEGIN:VCALENDAR
VERSION:2.0
PRODID:-//ChamberMaster//Event Calendar 2.0//EN
METHOD:PUBLISH
X-PUBLISHED-TTL:P3D
REFRESH-INTERVAL:P3D
CALSCALE:GREGORIAN
BEGIN:VEVENT
DTSTART:20210711T000000Z
DTEND:20210711T010000Z
X-MICROSOFT-CDO-ALLDAYEVENT:FALSE
SUMMARY:Comedy Dance Chicago at Northcenter!
DESCRIPTION:Comedy Dance Chicago is ready to share some laughs with you! Join us for our family-friendly comedy dance show at Northcenter Town Square. What is comedy dance? Basically... We dance. You laugh.
X-ALT-DESC;FMTTYPE=text/html:Comedy Dance Chicago is ready to share some laughs with you! Join us for our family-friendly comedy dance show at Northcenter Town Square. What is comedy dance? Basically... We dance. You laugh.
LOCATION:Northcenter Town Square
UID:e.1775.16293
SEQUENCE:3
DTSTAMP:20260421T044955Z
URL:https://business.northcenterchamber.com/events/details/comedy-dance-chicago-at-northcenter-07-10-2021-16293
END:VEVENT

END:VCALENDAR
