BEGIN:VCALENDAR
VERSION:2.0
PRODID:-//ChamberMaster//Event Calendar 2.0//EN
METHOD:PUBLISH
X-PUBLISHED-TTL:P3D
REFRESH-INTERVAL:P3D
CALSCALE:GREGORIAN
BEGIN:VEVENT
DTSTART:20260425T223000Z
DTEND:20260426T010000Z
X-MICROSOFT-CDO-ALLDAYEVENT:FALSE
SUMMARY:Corn Productions x Chicago Stars FC
DESCRIPTION:Join Corn Productions to see the Chicago Stars take on the Boston Legacy at Northwestern Medicine Field at Martin Stadium on Saturday\, April 25th at 5:30pm! For each ticket you purchase\, Corn Productions will get a portion of proceeds donated back. Bring the whole family!\n\n\n\nSecure your tickets now and be part of the action! \n\n\n\nTo purchase a group of 10+ tickets\, please contact Megan Graham - mgraham@chicagostars.com or (773)-880-2453.
X-ALT-DESC;FMTTYPE=text/html:Join Corn Productions to see the Chicago Stars take on the Boston Legacy at Northwestern Medicine Field at Martin Stadium on Saturday\, April 25th at 5:30pm! For each ticket you purchase\, Corn Productions will get a portion of proceeds donated back. Bring the whole family!<br />\n<br />\nSecure your tickets now and be part of the action!&nbsp\;<br />\n<br />\nTo purchase a group of 10+ tickets\, please contact Megan Graham - mgraham@chicagostars.com or (773)-880-2453.
LOCATION:Northwestern Medicine Field at Martin Stadium 2235 N Campus Dr
UID:e.1775.21861
SEQUENCE:3
DTSTAMP:20260424T210408Z
URL:https://business.northcenterchamber.com/events/details/corn-productions-x-chicago-stars-fc-21861
END:VEVENT

END:VCALENDAR
