BEGIN:VCALENDAR
VERSION:2.0
PRODID:-//ChamberMaster//Event Calendar 2.0//EN
METHOD:PUBLISH
X-PUBLISHED-TTL:P3D
REFRESH-INTERVAL:P3D
CALSCALE:GREGORIAN
BEGIN:VEVENT
DTSTART:20210311T233000Z
DTEND:20210312T003000Z
X-MICROSOFT-CDO-ALLDAYEVENT:FALSE
SUMMARY:Cottage Food Law Webinar: Selling Homemade Foods at Farmers Markets
DESCRIPTION:If you are considering selling homemade foods at a farmers market in 2021\, make sure to know the basic guidelines that growers and vendors must observe in preparation for farmers market sales.\n\nJoin University of Illinois Extension and the Illinois Stewardship Alliance for a timely class around selling your goods at the farmers market. Learn about the latest legislation concerning Illinois Cottage Food law and how to comply with safety standards to ensure that cottage food products are safe\, healthy\, and enjoyable for all. Participants are encouraged to stay on afterward for a Q&A session. \n\n\n\nIllinois Extension provides equal opportunities in programs and employment. If you need a reasonable accommodation to participate\, contact Lisa Peterson at lap5981@illinois.edu. Early requests are strongly encouraged to allow sufficient time for meeting access needs.
X-ALT-DESC;FMTTYPE=text/html:<p style="box-sizing: border-box\; margin: 0px 0px 16.6667px\; font-family: Montserrat\, sans-serif\; font-size: 15.4px\;"><span style="font-family:arial\;"><span style="font-size:14px\;">If you are considering selling homemade foods at a farmers market in 2021\, make sure to know the basic guidelines that growers and vendors must observe in preparation for farmers market sales.</span></span></p>\n\n<p style="box-sizing: border-box\; margin: 0px 0px 16.6667px\; font-family: Montserrat\, sans-serif\; font-size: 15.4px\;"><span style="font-family:arial\;"><span style="font-size:14px\;">Join&nbsp\;<a href="https://extension.illinois.edu/" style="box-sizing: border-box\; background-color: transparent\; color: rgb(68\, 68\, 68)\; text-decoration-line: none\; border-bottom: 1px solid rgb(232\, 74\, 39)\;" target="_blank">University of Illinois Extension</a>&nbsp\;and the&nbsp\;<a href="https://www.ilstewards.org/" style="box-sizing: border-box\; background-color: transparent\; color: rgb(68\, 68\, 68)\; text-decoration-line: none\; border-bottom: 1px solid rgb(232\, 74\, 39)\;" target="_blank">Illinois Stewardship Alliance</a>&nbsp\;for a timely class around selling your goods at the farmers market. Learn about the latest legislation concerning Illinois Cottage Food law&nbsp\;and how to comply with safety standards to ensure that cottage food products are safe\, healthy\, and enjoyable for all. Participants are encouraged to stay on afterward for a Q&amp\;A session.&nbsp\;<br />\n<br />\n<em style="box-sizing: border-box\; font-family: Montserrat\, sans-serif\; font-size: 15.4px\;">Illinois Extension provides equal opportunities in programs and employment. If you need a reasonable accommodation to participate\, contact&nbsp\;<a href="https://extension.illinois.edu/staff/lisa-peterson" style="box-sizing: border-box\; background-color: transparent\; color: rgb(68\, 68\, 68)\; text-decoration-line: none\; border-bottom: 1px solid rgb(232\, 74\, 39)\;" target="_blank">Lisa Peterson</a>&nbsp\;at&nbsp\;<a href="mailto:lap5981@illinois.edu?subject=Cottage%20Food%20Webinar" style="box-sizing: border-box\; background-color: transparent\; color: rgb(68\, 68\, 68)\; text-decoration-line: none\; border-bottom: 1px solid rgb(232\, 74\, 39)\;">lap5981@illinois.edu</a>. Early requests are strongly encouraged to allow sufficient time for meeting access needs.</em></span></span></p>\n
LOCATION:Virtual Webinar
UID:e.1775.16067
SEQUENCE:3
DTSTAMP:20260421T115959Z
URL:https://business.northcenterchamber.com/events/details/cottage-food-law-webinar-selling-homemade-foods-at-farmers-markets-16067
END:VEVENT

END:VCALENDAR
