BEGIN:VCALENDAR
VERSION:2.0
PRODID:-//ChamberMaster//Event Calendar 2.0//EN
METHOD:PUBLISH
X-PUBLISHED-TTL:P3D
REFRESH-INTERVAL:P3D
CALSCALE:GREGORIAN
BEGIN:VEVENT
DTSTART:20210808T233000Z
DTEND:20210809T003000Z
X-MICROSOFT-CDO-ALLDAYEVENT:FALSE
SUMMARY:Dancing in the Square
DESCRIPTION:You're invited to an evening of dance\, theater and fun presented by Lin Shook & Perceptual Motion\, Inc. Dance Company\, a multigenerational modern dance company and shared with RE/Dance. See some great dancing by dancers aged 24 to 72. Learn some new moves and rhythms!  EVERYONE welcome!  \n\n \n\n6:30-7:30pm\n\n\n\nSunday\, August 8 in Northcenter Town Square\, 4100 N. Damen Ave.\n\n\n\nChairs will be provided and placed according to safety guidelines.\n\nIn the event of rain\, or if COVID progress backtracks\, performances will be rescheduled.\n\n\n\nAudience will be limited according to most recently updated social distancing guidelines. Safety is our #1 priority and we are following CDC\, national\, state\, and city guidelines. \n\n \n\nPerceptual Motion\, Inc. creates inspiring and meaningful experiences through choreography that often utilizes intriguing props and costumes\, captivating characters striking moving images and humor. Its artistic director is award-winning choreographer Lin Shook. www.perceptualmotiondance.com
X-ALT-DESC;FMTTYPE=text/html:<span style="font-family:arial\,sans-serif\;">You&#39\;re invited to an evening of dance\, theater and fun presented by Lin Shook &amp\; Perceptual Motion\, Inc. Dance Company\, a multigenerational modern dance company and shared with RE/Dance<span style="background:white\;"><span style="color:#222222\;">. </span></span>See some great dancing by dancers aged 24 to 72. Learn some new moves and rhythms!&nbsp\; EVERYONE welcome!&nbsp\; </span><br />\n&nbsp\;<br />\n<span style="font-family:arial\,sans-serif\;">6:30-7:30pm<br />\n<br />\nSunday\, August 8 in Northcenter Town Square\, 4100 N. Damen Ave.</span><br />\n<br />\n<span style="background:white\;"><span style="color:black\;"><span style="font-family:arial\,sans-serif\;">Chairs will be provided and placed according to safety guidelines.</span></span></span><br />\n<span style="font-family:arial\,sans-serif\;">In the event of rain\, or if&nbsp\;COVID progress backtracks\,&nbsp\;performances will be rescheduled.</span><br />\n<br />\n<span style="font-family:arial\,sans-serif\;">Audience will be limited according to most recently updated social distancing guidelines.&nbsp\;Safety is our #1 priority and we are following CDC\, national\, state\, and city guidelines.&nbsp\;<br />\n&nbsp\;<br />\nPerceptual Motion\, Inc. creates inspiring and meaningful experiences through choreography that often utilizes intriguing props and costumes\, captivating characters striking moving images and humor. Its artistic director is award-winning choreographer Lin Shook. www.perceptualmotiondance.com</span>
LOCATION:Northcenter Town Square 4100 N Damen Ave
UID:e.1775.16315
SEQUENCE:3
DTSTAMP:20260421T011502Z
URL:https://business.northcenterchamber.com/events/details/dancing-in-the-square-16315
END:VEVENT

END:VCALENDAR
